FILENAME: O4411215.SWS.789296.tif
QUADRANGLE_NAME: ANTONE PEAK
QUADRANT: SW
WEST_LONGITUDE: -112 15 0.00000
EAST_LONGITUDE: -112 11 15.00000
NORTH_LATITUDE: 44 48 45.00000
SOUTH_LATITUDE: 44 45 0.00000
PRODUCTION_DATE: 1997 11 19
RASTER_ORDER: LEFT_RIGHT/TOP_BOTTOM
BAND_ORGANIZATION: SINGLE FILE
BAND_CONTENT: BLACK&WHITE
BAND_CONTENT: UNDEFINED
BAND_CONTENT: UNDEFINED
BITS_PER_PIXEL: 8
SAMPLES_AND_LINES: 5715 7625
HORIZONTAL_DATUM: NAD83
HORIZONTAL_COORDINATE_SYSTEM: UTM
COORDINATE_ZONE: 12
HORIZONTAL_UNITS: METERS
HORIZONTAL_RESOLUTION: 1.00000
SECONDARY_HORIZONTAL_DATUM: NAD27
XY_ORIGIN: 400688.02400 4963181.31900
SECONDARY_XY_ORIGIN: 400750.70500 4962972.79300
NATION: US
STATE: MT
NW_QUAD_CORNER_XY: 401160.02700 4962881.81900
NE_QUAD_CORNER_XY: 406102.03100 4962807.71800
SE_QUAD_CORNERY_XY: 406000.65800 4955865.01400
SW_QUAD_CORNER_XY: 401053.31700 4955939.11300
SECONDARY_NW_QUAD_XY: 401157.12200 4962664.82100
SECONDARY_NE_QUAD_XY: 406099.27100 4962590.71800
SECONDARY_SE_QUAD_XY: 405997.89900 4955648.07200
SECONDARY_SW_QUAD_XY: 401050.41200 4955722.17300
RMSE_XY: 2.70000
IMAGE_SOURCE: BLACK AND WHITE FILM
SOURCE_IMAGE_ID: NAPP 9484 186
SOURCE_IMAGE_DATE: 1995 8 14
SOURCE_DEM_DATE: 1997 11 19
AGENCY: WESTERN MAPPING CENTER (WMC)
PRODUCER: NIES MAPPING GROUP
PRODUCTION_SYSTEM: INTERGRAPH- ISPM,ISIR
COMPRESSION: UNDEFINED
STANDARD_VERSION: 1996 12
METADATA_DATE: 1998 2 5
DATA_FILE_SIZE: 43582590
BYTE_COUNT: 5715
