FILENAME: O4411216.SWS.789300.tif
QUADRANGLE_NAME: STONEHOUSE MOUNTAIN
QUADRANT: SW
WEST_LONGITUDE: -112 7 30.00000
EAST_LONGITUDE: -112 3 45.00000
NORTH_LATITUDE: 44 48 45.00000
SOUTH_LATITUDE: 44 45 0.00000
PRODUCTION_DATE: 1997 11 19
RASTER_ORDER: LEFT_RIGHT/TOP_BOTTOM
BAND_ORGANIZATION: SINGLE FILE
BAND_CONTENT: BLACK&WHITE
BAND_CONTENT: UNDEFINED
BAND_CONTENT: UNDEFINED
BITS_PER_PIXEL: 8
SAMPLES_AND_LINES: 5703 7618
HORIZONTAL_DATUM: NAD83
HORIZONTAL_COORDINATE_SYSTEM: UTM
COORDINATE_ZONE: 12
HORIZONTAL_UNITS: METERS
HORIZONTAL_RESOLUTION: 1.00000
SECONDARY_HORIZONTAL_DATUM: NAD27
XY_ORIGIN: 410583.26200 4963036.91900
SECONDARY_XY_ORIGIN: 410645.61600 4962828.47900
NATION: US
STATE: MT
NW_QUAD_CORNER_XY: 411044.03500 4962737.41900
NE_QUAD_CORNER_XY: 415986.03800 4962670.92100
SE_QUAD_CORNERY_XY: 415895.33800 4955728.21900
SW_QUAD_CORNER_XY: 410947.99900 4955794.71600
SECONDARY_NW_QUAD_XY: 411041.42000 4962520.41700
SECONDARY_NE_QUAD_XY: 415983.56800 4962453.91700
SECONDARY_SE_QUAD_XY: 415892.87000 4955511.27300
SECONDARY_SW_QUAD_XY: 410945.38500 4955577.77200
RMSE_XY: 1.60000
IMAGE_SOURCE: BLACK AND WHITE FILM
SOURCE_IMAGE_ID: NAPP 9484 268
SOURCE_IMAGE_DATE: 1995 8 14
SOURCE_DEM_DATE: 1997 11 19
AGENCY: WESTERN MAPPING CENTER (WMC)
PRODUCER: NIES MAPPING GROUP
PRODUCTION_SYSTEM: INTERGRAPH- ISPM,ISIR
COMPRESSION: UNDEFINED
STANDARD_VERSION: 1996 12
METADATA_DATE: 1998 2 5
DATA_FILE_SIZE: 43451157
BYTE_COUNT: 5703
