FILENAME: O4411216.SES.789299.tif
QUADRANGLE_NAME: STONEHOUSE MOUNTAIN
QUADRANT: SE
WEST_LONGITUDE: -112 3 45.00000
EAST_LONGITUDE: -112 0 0.00000
NORTH_LATITUDE: 44 48 45.00000
SOUTH_LATITUDE: 44 45 0.00000
PRODUCTION_DATE: 1997 11 19
RASTER_ORDER: LEFT_RIGHT/TOP_BOTTOM
BAND_ORGANIZATION: SINGLE FILE
BAND_CONTENT: BLACK&WHITE
BAND_CONTENT: UNDEFINED
BAND_CONTENT: UNDEFINED
BITS_PER_PIXEL: 8
SAMPLES_AND_LINES: 5698 7614
HORIZONTAL_DATUM: NAD83
HORIZONTAL_COORDINATE_SYSTEM: UTM
COORDINATE_ZONE: 12
HORIZONTAL_UNITS: METERS
HORIZONTAL_RESOLUTION: 1.00000
SECONDARY_HORIZONTAL_DATUM: NAD27
XY_ORIGIN: 415530.87900 4962970.42100
SECONDARY_XY_ORIGIN: 415593.06600 4962762.02500
NATION: US
STATE: MT
NW_QUAD_CORNER_XY: 415986.03800 4962670.92100
NE_QUAD_CORNER_XY: 420928.04000 4962608.22300
SE_QUAD_CORNERY_XY: 420842.67700 4955665.52300
SW_QUAD_CORNER_XY: 415895.33800 4955728.21900
SECONDARY_NW_QUAD_XY: 415983.56800 4962453.91700
SECONDARY_NE_QUAD_XY: 420925.71600 4962391.21700
SECONDARY_SE_QUAD_XY: 420840.35300 4955448.57500
SECONDARY_SW_QUAD_XY: 415892.87000 4955511.27300
RMSE_XY: 2.00000
IMAGE_SOURCE: BLACK AND WHITE FILM
SOURCE_IMAGE_ID: NAPP 9485 246
SOURCE_IMAGE_DATE: 1995 8 20
SOURCE_DEM_DATE: 1997 11 19
AGENCY: WESTERN MAPPING CENTER (WMC)
PRODUCER: NIES MAPPING GROUP
PRODUCTION_SYSTEM: INTERGRAPH- ISPM,ISIR
COMPRESSION: UNDEFINED
STANDARD_VERSION: 1996 12
METADATA_DATE: 1998 2 5
DATA_FILE_SIZE: 43390270
BYTE_COUNT: 5698
