FILENAME: O4411216.NES.789297.tif
QUADRANGLE_NAME: STONEHOUSE MOUNTAIN
QUADRANT: NE
WEST_LONGITUDE: -112 3 45.00000
EAST_LONGITUDE: -112 0 0.00000
NORTH_LATITUDE: 44 52 30.00000
SOUTH_LATITUDE: 44 48 45.00000
PRODUCTION_DATE: 1997 11 19
RASTER_ORDER: LEFT_RIGHT/TOP_BOTTOM
BAND_ORGANIZATION: SINGLE FILE
BAND_CONTENT: BLACK&WHITE
BAND_CONTENT: UNDEFINED
BAND_CONTENT: UNDEFINED
BITS_PER_PIXEL: 8
SAMPLES_AND_LINES: 5692 7614
HORIZONTAL_DATUM: NAD83
HORIZONTAL_COORDINATE_SYSTEM: UTM
COORDINATE_ZONE: 12
HORIZONTAL_UNITS: METERS
HORIZONTAL_RESOLUTION: 1.00000
SECONDARY_HORIZONTAL_DATUM: NAD27
XY_ORIGIN: 415621.88100 4969913.19600
SECONDARY_XY_ORIGIN: 415683.76800 4969704.58700
NATION: US
STATE: MT
NW_QUAD_CORNER_XY: 416076.83800 4969613.69600
NE_QUAD_CORNER_XY: 421013.49800 4969550.99800
SE_QUAD_CORNERY_XY: 420928.04000 4962608.22300
SW_QUAD_CORNER_XY: 415986.03800 4962670.92100
SECONDARY_NW_QUAD_XY: 416074.36800 4969396.63400
SECONDARY_NE_QUAD_XY: 421011.17300 4969333.93400
SECONDARY_SE_QUAD_XY: 420925.71600 4962391.21700
SECONDARY_SW_QUAD_XY: 415983.56800 4962453.91700
RMSE_XY: 1.50000
IMAGE_SOURCE: BLACK AND WHITE FILM
SOURCE_IMAGE_ID: NAPP 9485 248
SOURCE_IMAGE_DATE: 1995 8 20
SOURCE_DEM_DATE: 1997 11 19
AGENCY: WESTERN MAPPING CENTER (WMC)
PRODUCER: NIES MAPPING GROUP
PRODUCTION_SYSTEM: INTERGRAPH- ISPM,ISIR
COMPRESSION: UNDEFINED
STANDARD_VERSION: 1996 12
METADATA_DATE: 1998 2 5
DATA_FILE_SIZE: 43344580
BYTE_COUNT: 5692
