FILENAME: O4411217.SES.1076670.tif
QUADRANGLE_NAME: GRAPHITE MOUNTAIN
QUADRANT: SE
WEST_LONGITUDE: -112 56 15.00000
EAST_LONGITUDE: -112 52 30.00000
NORTH_LATITUDE: 44 41 15.00000
SOUTH_LATITUDE: 44 37 30.00000
PRODUCTION_DATE: 2000 5 18
RASTER_ORDER: LEFT_RIGHT/TOP_BOTTOM
BAND_ORGANIZATION: SINGLE FILE
BAND_CONTENT: BLACK&WHITE
BAND_CONTENT: UNDEFINED
BAND_CONTENT: UNDEFINED
BITS_PER_PIXEL: 8
SAMPLES_AND_LINES: 5788 7669
HORIZONTAL_DATUM: NAD83
HORIZONTAL_COORDINATE_SYSTEM: UTM
COORDINATE_ZONE: 12
HORIZONTAL_UNITS: METERS
HORIZONTAL_RESOLUTION: 1.00000
SECONDARY_HORIZONTAL_DATUM: NAD27
XY_ORIGIN: 345933.00000 4950363.00000
SECONDARY_XY_ORIGIN: 345996.14900 4950153.63100
NATION: US
NATION: "SCIENCE
STATE: MT
NW_QUAD_CORNER_XY: 346467.21200 4950062.46600
NE_QUAD_CORNER_XY: 351419.90500 4949946.54500
SE_QUAD_CORNERY_XY: 351260.16200 4943003.95700
SW_QUAD_CORNER_XY: 346302.14100 4943119.87400
SECONDARY_NW_QUAD_XY: 346462.71100 4949845.61700
SECONDARY_NE_QUAD_XY: 351415.54900 4949729.69200
SECONDARY_SE_QUAD_XY: 351255.80800 4942787.16400
SECONDARY_SW_QUAD_XY: 346297.64200 4942903.08600
RMSE_XY: 1.30000
IMAGE_SOURCE: BLACK AND WHITE FILM
SOURCE_IMAGE_ID: NAPP 9483 186
SOURCE_IMAGE_DATE: 1995 08 14
SOURCE_IMAGE_ID: NAPP 9483 187
SOURCE_IMAGE_DATE: 1995 08 14
SOURCE_IMAGE_ID: NAPP 9483 185
SOURCE_IMAGE_DATE: 1995 08 14
SOURCE_DEM_DATE: 2000 01 01
AGENCY: WESTERN MAPPING CENTER (WMC)
PRODUCER: UNDEFINED
PRODUCTION_SYSTEM: GIS/MAGIC
COMPRESSION: UNDEFINED
STANDARD_VERSION: 1996 12
METADATA_DATE: 2000 05 25
DATA_FILE_SIZE: 44393960
BYTE_COUNT: 5788
