FILENAME: O4411217.NES.1076668.tif
QUADRANGLE_NAME: GRAPHITE MOUNTAIN
QUADRANT: NE
WEST_LONGITUDE: -112 56 15.00000
EAST_LONGITUDE: -112 52 30.00000
NORTH_LATITUDE: 44 45 0.00000
SOUTH_LATITUDE: 44 41 15.00000
PRODUCTION_DATE: 2000 5 18
RASTER_ORDER: LEFT_RIGHT/TOP_BOTTOM
BAND_ORGANIZATION: SINGLE FILE
BAND_CONTENT: BLACK&WHITE
BAND_CONTENT: UNDEFINED
BAND_CONTENT: UNDEFINED
BITS_PER_PIXEL: 8
SAMPLES_AND_LINES: 5783 7670
HORIZONTAL_DATUM: NAD83
HORIZONTAL_COORDINATE_SYSTEM: UTM
COORDINATE_ZONE: 12
HORIZONTAL_UNITS: METERS
HORIZONTAL_RESOLUTION: 1.00000
SECONDARY_HORIZONTAL_DATUM: NAD27
XY_ORIGIN: 346098.00000 4957306.00000
SECONDARY_XY_ORIGIN: 346161.23700 4957096.43100
NATION: US
NATION: "SCIENCE
STATE: MT
NW_QUAD_CORNER_XY: 346632.46700 4957005.12500
NE_QUAD_CORNER_XY: 351579.82500 4956889.20100
SE_QUAD_CORNERY_XY: 351419.90500 4949946.54500
SW_QUAD_CORNER_XY: 346467.21200 4950062.46600
SECONDARY_NW_QUAD_XY: 346627.96500 4956788.21700
SECONDARY_NE_QUAD_XY: 351575.46800 4956672.28900
SECONDARY_SE_QUAD_XY: 351415.54900 4949729.69200
SECONDARY_SW_QUAD_XY: 346462.71100 4949845.61700
RMSE_XY: 1.90000
IMAGE_SOURCE: BLACK AND WHITE FILM
SOURCE_IMAGE_ID: NAPP 9483 184
SOURCE_IMAGE_DATE: 1995 08 14
SOURCE_IMAGE_ID: NAPP 9483 185
SOURCE_IMAGE_DATE: 1995 08 14
SOURCE_IMAGE_ID: NAPP 9483 183
SOURCE_IMAGE_DATE: 1995 08 14
SOURCE_DEM_DATE: 2000 01 01
AGENCY: WESTERN MAPPING CENTER (WMC)
PRODUCER: UNDEFINED
PRODUCTION_SYSTEM: GIS/MAGIC
COMPRESSION: UNDEFINED
STANDARD_VERSION: 1996 12
METADATA_DATE: 2000 05 25
DATA_FILE_SIZE: 44361393
BYTE_COUNT: 5783
