FILENAME: O4411219.NES.1077580.tif
QUADRANGLE_NAME: DELL
QUADRANT: NE
WEST_LONGITUDE: -112 41 15.00000
EAST_LONGITUDE: -112 37 30.00000
NORTH_LATITUDE: 44 45 0.00000
SOUTH_LATITUDE: 44 41 15.00000
PRODUCTION_DATE: 2000 5 9
RASTER_ORDER: LEFT_RIGHT/TOP_BOTTOM
BAND_ORGANIZATION: SINGLE FILE
BAND_CONTENT: BLACK&WHITE
BAND_CONTENT: UNDEFINED
BAND_CONTENT: UNDEFINED
BITS_PER_PIXEL: 8
SAMPLES_AND_LINES: 5762 7655
HORIZONTAL_DATUM: NAD83
HORIZONTAL_COORDINATE_SYSTEM: UTM
COORDINATE_ZONE: 12
HORIZONTAL_UNITS: METERS
HORIZONTAL_RESOLUTION: 1.00000
SECONDARY_HORIZONTAL_DATUM: NAD27
XY_ORIGIN: 365909.00000 4956865.00000
SECONDARY_XY_ORIGIN: 365972.21500 4956656.10800
NATION: US
NATION: "SCIENCE
STATE: MT
NW_QUAD_CORNER_XY: 366421.88800 4956564.24900
NE_QUAD_CORNER_XY: 371369.23900 4956463.53700
SE_QUAD_CORNERY_XY: 371230.65500 4949520.89100
SW_QUAD_CORNER_XY: 366277.97000 4949621.60000
SECONDARY_NW_QUAD_XY: 366417.96700 4956347.32800
SECONDARY_NE_QUAD_XY: 371365.46400 4956246.61300
SECONDARY_SE_QUAD_XY: 371226.88000 4949304.02600
SECONDARY_SW_QUAD_XY: 366274.05000 4949404.73900
RMSE_XY: 1.90000
IMAGE_SOURCE: BLACK AND WHITE FILM
SOURCE_IMAGE_ID: NAPP 8382 119
SOURCE_IMAGE_DATE: 1995 08 01
SOURCE_IMAGE_ID: NAPP 8382 003
SOURCE_IMAGE_DATE: 1995 08 01
SOURCE_IMAGE_ID: NAPP 8382 005
SOURCE_IMAGE_DATE: 1995 08 01
SOURCE_IMAGE_ID: NAPP 8382 121
SOURCE_IMAGE_DATE: 1995 08 01
SOURCE_IMAGE_ID: NAPP 8382 120
SOURCE_IMAGE_DATE: 1995 08 01
SOURCE_DEM_DATE: 1997 00 00
AGENCY: WESTERN MAPPING CENTER (WMC)
PRODUCER: UNDEFINED
PRODUCTION_SYSTEM: GIS/MAGIC
COMPRESSION: UNDEFINED
STANDARD_VERSION: 1996 12
METADATA_DATE: 2000 05 26
DATA_FILE_SIZE: 44113872
BYTE_COUNT: 5762
