FILENAME: O4411220.SWS.1077636.tif
QUADRANGLE_NAME: LIMA
QUADRANT: SW
WEST_LONGITUDE: -112 37 30.00000
EAST_LONGITUDE: -112 33 45.00000
NORTH_LATITUDE: 44 41 15.00000
SOUTH_LATITUDE: 44 37 30.00000
PRODUCTION_DATE: 2000 4 20
RASTER_ORDER: LEFT_RIGHT/TOP_BOTTOM
BAND_ORGANIZATION: SINGLE FILE
BAND_CONTENT: BLACK&WHITE
BAND_CONTENT: UNDEFINED
BAND_CONTENT: UNDEFINED
BITS_PER_PIXEL: 8
SAMPLES_AND_LINES: 5761 7651
HORIZONTAL_DATUM: NAD83
HORIZONTAL_COORDINATE_SYSTEM: UTM
COORDINATE_ZONE: 12
HORIZONTAL_UNITS: METERS
HORIZONTAL_RESOLUTION: 1.00000
SECONDARY_HORIZONTAL_DATUM: NAD27
XY_ORIGIN: 370724.00000 4949821.00000
SECONDARY_XY_ORIGIN: 370787.13100 4949612.42800
NATION: US
NATION: "SCIENCE
STATE: MT
NW_QUAD_CORNER_XY: 371230.65500 4949520.89100
NE_QUAD_CORNER_XY: 376183.33700 4949423.98400
SE_QUAD_CORNERY_XY: 376050.23400 4942481.41100
SW_QUAD_CORNER_XY: 371092.22400 4942578.31500
SECONDARY_NW_QUAD_XY: 371226.88000 4949304.02600
SECONDARY_NE_QUAD_XY: 376179.70800 4949207.11700
SECONDARY_SE_QUAD_XY: 376046.60500 4942264.60400
SECONDARY_SW_QUAD_XY: 371088.45100 4942361.51100
RMSE_XY: 1.20000
IMAGE_SOURCE: BLACK AND WHITE FILM
SOURCE_IMAGE_ID: NAPP 8382 122
SOURCE_IMAGE_DATE: 1995 08 01
SOURCE_IMAGE_ID: NAPP 8382 002
SOURCE_IMAGE_DATE: 1995 08 01
SOURCE_IMAGE_ID: NAPP 8383 003
SOURCE_IMAGE_DATE: 1995 08 15
SOURCE_IMAGE_ID: NAPP 8382 121
SOURCE_IMAGE_DATE: 1995 08 01
SOURCE_DEM_DATE: 1979 00 00
AGENCY: WESTERN MAPPING CENTER (WMC)
PRODUCER: UNDEFINED
PRODUCTION_SYSTEM: GIS/MAGIC
COMPRESSION: UNDEFINED
STANDARD_VERSION: 1996 12
METADATA_DATE: 2000 05 26
DATA_FILE_SIZE: 44083172
BYTE_COUNT: 5761
