FILENAME: O4411220.SES.1077635.tif
QUADRANGLE_NAME: LIMA
QUADRANT: SE
WEST_LONGITUDE: -112 33 45.00000
EAST_LONGITUDE: -112 30 0.00000
NORTH_LATITUDE: 44 41 15.00000
SOUTH_LATITUDE: 44 37 30.00000
PRODUCTION_DATE: 2000 4 20
RASTER_ORDER: LEFT_RIGHT/TOP_BOTTOM
BAND_ORGANIZATION: SINGLE FILE
BAND_CONTENT: BLACK&WHITE
BAND_CONTENT: UNDEFINED
BAND_CONTENT: UNDEFINED
BITS_PER_PIXEL: 8
SAMPLES_AND_LINES: 5756 7647
HORIZONTAL_DATUM: NAD83
HORIZONTAL_COORDINATE_SYSTEM: UTM
COORDINATE_ZONE: 12
HORIZONTAL_UNITS: METERS
HORIZONTAL_RESOLUTION: 1.00000
SECONDARY_HORIZONTAL_DATUM: NAD27
XY_ORIGIN: 375682.00000 4949724.00000
SECONDARY_XY_ORIGIN: 375745.09400 4949515.56500
NATION: US
NATION: "SCIENCE
STATE: MT
NW_QUAD_CORNER_XY: 376183.33700 4949423.98400
NE_QUAD_CORNER_XY: 381136.01800 4949330.88000
SE_QUAD_CORNERY_XY: 381008.24100 4942388.31000
SW_QUAD_CORNER_XY: 376050.23400 4942481.41100
SECONDARY_NW_QUAD_XY: 376179.70800 4949207.11700
SECONDARY_NE_QUAD_XY: 381132.53400 4949114.01000
SECONDARY_SE_QUAD_XY: 381004.75800 4942171.49900
SECONDARY_SW_QUAD_XY: 376046.60500 4942264.60400
RMSE_XY: 1.30000
IMAGE_SOURCE: BLACK AND WHITE FILM
SOURCE_IMAGE_ID: NAPP 8382 125
SOURCE_IMAGE_DATE: 1995 08 01
SOURCE_IMAGE_ID: NAPP 8383 021
SOURCE_IMAGE_DATE: 1995 08 15
SOURCE_IMAGE_ID: NAPP 8382 126
SOURCE_IMAGE_DATE: 1995 08 01
SOURCE_DEM_DATE: 1979 00 00
AGENCY: WESTERN MAPPING CENTER (WMC)
PRODUCER: UNDEFINED
PRODUCTION_SYSTEM: GIS/MAGIC
COMPRESSION: UNDEFINED
STANDARD_VERSION: 1996 12
METADATA_DATE: 2000 05 26
DATA_FILE_SIZE: 44021888
BYTE_COUNT: 5756
