FILENAME: O4411221.SWS.1077703.tif
QUADRANGLE_NAME: HENRY GULCH
QUADRANT: SW
WEST_LONGITUDE: -112 30 0.00000
EAST_LONGITUDE: -112 26 15.00000
NORTH_LATITUDE: 44 41 15.00000
SOUTH_LATITUDE: 44 37 30.00000
PRODUCTION_DATE: 2000 4 14
RASTER_ORDER: LEFT_RIGHT/TOP_BOTTOM
BAND_ORGANIZATION: SINGLE FILE
BAND_CONTENT: BLACK&WHITE
BAND_CONTENT: UNDEFINED
BAND_CONTENT: UNDEFINED
BITS_PER_PIXEL: 8
SAMPLES_AND_LINES: 5750 7643
HORIZONTAL_DATUM: NAD83
HORIZONTAL_COORDINATE_SYSTEM: UTM
COORDINATE_ZONE: 12
HORIZONTAL_UNITS: METERS
HORIZONTAL_RESOLUTION: 1.00000
SECONDARY_HORIZONTAL_DATUM: NAD27
XY_ORIGIN: 380640.00000 4949631.00000
SECONDARY_XY_ORIGIN: 380703.04400 4949422.72100
NATION: US
NATION: "SCIENCE
STATE: MT
NW_QUAD_CORNER_XY: 381136.01800 4949330.88000
NE_QUAD_CORNER_XY: 386088.69700 4949241.57700
SE_QUAD_CORNERY_XY: 385966.24700 4942299.00900
SW_QUAD_CORNER_XY: 381008.24100 4942388.31000
SECONDARY_NW_QUAD_XY: 381132.53400 4949114.01000
SECONDARY_NE_QUAD_XY: 386085.35800 4949024.70400
SECONDARY_SE_QUAD_XY: 385962.90900 4942082.19700
SECONDARY_SW_QUAD_XY: 381004.75800 4942171.49900
RMSE_XY: 1.30000
IMAGE_SOURCE: BLACK AND WHITE FILM
SOURCE_IMAGE_ID: NAPP 8382 213
SOURCE_IMAGE_DATE: 1995 08 01
SOURCE_IMAGE_ID: NAPP 8382 125
SOURCE_IMAGE_DATE: 1995 08 01
SOURCE_IMAGE_ID: NAPP 8382 212
SOURCE_IMAGE_DATE: 1995 08 01
SOURCE_DEM_DATE: 1968 00 00
AGENCY: WESTERN MAPPING CENTER (WMC)
PRODUCER: UNDEFINED
PRODUCTION_SYSTEM: GIS/MAGIC
COMPRESSION: UNDEFINED
STANDARD_VERSION: 1996 12
METADATA_DATE: 2000 05 26
DATA_FILE_SIZE: 43953000
BYTE_COUNT: 5750
