FILENAME: O4411223.SES.1077770.tif
QUADRANGLE_NAME: WOLVERINE CREEK
QUADRANT: SE
WEST_LONGITUDE: -112 11 15.00000
EAST_LONGITUDE: -112 7 30.00000
NORTH_LATITUDE: 44 41 15.00000
SOUTH_LATITUDE: 44 37 30.00000
PRODUCTION_DATE: 2000 3 15
RASTER_ORDER: LEFT_RIGHT/TOP_BOTTOM
BAND_ORGANIZATION: SINGLE FILE
BAND_CONTENT: BLACK&WHITE
BAND_CONTENT: UNDEFINED
BAND_CONTENT: UNDEFINED
BITS_PER_PIXEL: 8
SAMPLES_AND_LINES: 5723 7625
HORIZONTAL_DATUM: NAD83
HORIZONTAL_COORDINATE_SYSTEM: UTM
COORDINATE_ZONE: 12
HORIZONTAL_UNITS: METERS
HORIZONTAL_RESOLUTION: 1.00000
SECONDARY_HORIZONTAL_DATUM: NAD27
XY_ORIGIN: 405431.00000 4949223.00000
SECONDARY_XY_ORIGIN: 405493.87700 4949014.76800
NATION: US
NATION: "SCIENCE
STATE: MT
NW_QUAD_CORNER_XY: 405899.39800 4948922.38200
NE_QUAD_CORNER_XY: 410852.06900 4948852.08600
SE_QUAD_CORNERY_XY: 410756.24600 4941909.52900
SW_QUAD_CORNER_XY: 405798.25000 4941979.82300
SECONDARY_NW_QUAD_XY: 405896.63900 4948705.49900
SECONDARY_NE_QUAD_XY: 410849.45600 4948635.20100
SECONDARY_SE_QUAD_XY: 410753.63400 4941692.70500
SECONDARY_SW_QUAD_XY: 405795.49200 4941763.00100
RMSE_XY: 1.10000
IMAGE_SOURCE: BLACK AND WHITE FILM
SOURCE_IMAGE_ID: NAPP 9484 201
SOURCE_IMAGE_DATE: 1995 08 14
SOURCE_IMAGE_ID: NAPP 9484 200
SOURCE_IMAGE_DATE: 1995 08 14
SOURCE_IMAGE_ID: NAPP 9484 272
SOURCE_IMAGE_DATE: 1995 08 14
SOURCE_DEM_DATE: 1967 00 00
AGENCY: WESTERN MAPPING CENTER (WMC)
PRODUCER: UNDEFINED
PRODUCTION_SYSTEM: GIS/MAGIC
COMPRESSION: UNDEFINED
STANDARD_VERSION: 1996 12
METADATA_DATE: 2000 05 26
DATA_FILE_SIZE: 43643598
BYTE_COUNT: 5723
