FILENAME: O4411225.SWS.1076682.tif
QUADRANGLE_NAME: ISLAND BUTTE
QUADRANT: SW
WEST_LONGITUDE: -113 0 0.00000
EAST_LONGITUDE: -112 56 15.00000
NORTH_LATITUDE: 44 33 45.00000
SOUTH_LATITUDE: 44 30 0.00000
PRODUCTION_DATE: 2000 5 18
RASTER_ORDER: LEFT_RIGHT/TOP_BOTTOM
BAND_ORGANIZATION: SINGLE FILE
BAND_CONTENT: BLACK&WHITE
BAND_CONTENT: UNDEFINED
BAND_CONTENT: UNDEFINED
BITS_PER_PIXEL: 8
SAMPLES_AND_LINES: 5804 7674
HORIZONTAL_DATUM: NAD83
HORIZONTAL_COORDINATE_SYSTEM: UTM
COORDINATE_ZONE: 12
HORIZONTAL_UNITS: METERS
HORIZONTAL_RESOLUTION: 1.00000
SECONDARY_HORIZONTAL_DATUM: NAD27
XY_ORIGIN: 340635.00000 4936598.00000
SECONDARY_XY_ORIGIN: 340697.93200 4936388.87100
NATION: US
NATION: "SCIENCE
STATE: MT
NW_QUAD_CORNER_XY: 341173.90600 4936297.06800
NE_QUAD_CORNER_XY: 346137.25400 4936177.35100
SE_QUAD_CORNERY_XY: 345972.55100 4929234.89400
SW_QUAD_CORNER_XY: 341003.88600 4929354.60700
SECONDARY_NW_QUAD_XY: 341169.26400 4936080.34400
SECONDARY_NE_QUAD_XY: 346132.75600 4935960.62300
SECONDARY_SE_QUAD_XY: 345968.05500 4929018.22800
SECONDARY_SW_QUAD_XY: 340999.24500 4929137.94500
RMSE_XY: 1.80000
IMAGE_SOURCE: BLACK AND WHITE FILM
SOURCE_IMAGE_ID: NAPP 9485 159
SOURCE_IMAGE_DATE: 1995 08 20
SOURCE_IMAGE_ID: NAPP 9485 160
SOURCE_IMAGE_DATE: 1995 08 20
SOURCE_IMAGE_ID: NAPP 9485 158
SOURCE_IMAGE_DATE: 1995 08 20
SOURCE_IMAGE_ID: NAPP 9483 190
SOURCE_IMAGE_DATE: 1995 08 14
SOURCE_DEM_DATE: 2000 01 01
AGENCY: WESTERN MAPPING CENTER (WMC)
PRODUCER: UNDEFINED
PRODUCTION_SYSTEM: GIS/MAGIC
COMPRESSION: UNDEFINED
STANDARD_VERSION: 1996 12
METADATA_DATE: 2000 05 25
DATA_FILE_SIZE: 44545700
BYTE_COUNT: 5804
