FILENAME: O4411225.NWS.1076677.tif
QUADRANGLE_NAME: ISLAND BUTTE
QUADRANT: NW
WEST_LONGITUDE: -113 0 0.00000
EAST_LONGITUDE: -112 56 15.00000
NORTH_LATITUDE: 44 37 30.00000
SOUTH_LATITUDE: 44 33 45.00000
PRODUCTION_DATE: 2000 5 18
RASTER_ORDER: LEFT_RIGHT/TOP_BOTTOM
BAND_ORGANIZATION: SINGLE FILE
BAND_CONTENT: BLACK&WHITE
BAND_CONTENT: UNDEFINED
BAND_CONTENT: UNDEFINED
BITS_PER_PIXEL: 8
SAMPLES_AND_LINES: 5799 7673
HORIZONTAL_DATUM: NAD83
HORIZONTAL_COORDINATE_SYSTEM: UTM
COORDINATE_ZONE: 12
HORIZONTAL_UNITS: METERS
HORIZONTAL_RESOLUTION: 1.00000
SECONDARY_HORIZONTAL_DATUM: NAD27
XY_ORIGIN: 340805.00000 4943540.00000
SECONDARY_XY_ORIGIN: 340868.03200 4943330.66400
NATION: US
NATION: "SCIENCE
STATE: MT
NW_QUAD_CORNER_XY: 341344.11700 4943239.59600
NE_QUAD_CORNER_XY: 346302.14100 4943119.87400
SE_QUAD_CORNERY_XY: 346137.25400 4936177.35100
SW_QUAD_CORNER_XY: 341173.90600 4936297.06800
SECONDARY_NW_QUAD_XY: 341339.47200 4943022.81100
SECONDARY_NE_QUAD_XY: 346297.64200 4942903.08600
SECONDARY_SE_QUAD_XY: 346132.75600 4935960.62300
SECONDARY_SW_QUAD_XY: 341169.26400 4936080.34400
RMSE_XY: 2.50000
IMAGE_SOURCE: BLACK AND WHITE FILM
SOURCE_IMAGE_ID: NAPP 9485 157
SOURCE_IMAGE_DATE: 1995 08 20
SOURCE_IMAGE_ID: NAPP 9485 158
SOURCE_IMAGE_DATE: 1995 08 20
SOURCE_IMAGE_ID: NAPP 9485 156
SOURCE_IMAGE_DATE: 1995 08 20
SOURCE_IMAGE_ID: NAPP 9483 188
SOURCE_IMAGE_DATE: 1995 08 14
SOURCE_DEM_DATE: 2000 01 01
AGENCY: WESTERN MAPPING CENTER (WMC)
PRODUCER: UNDEFINED
PRODUCTION_SYSTEM: GIS/MAGIC
COMPRESSION: UNDEFINED
STANDARD_VERSION: 1996 12
METADATA_DATE: 2000 05 25
DATA_FILE_SIZE: 44501526
BYTE_COUNT: 5799
