FILENAME: O4411225.NES.1076675.tif
QUADRANGLE_NAME: ISLAND BUTTE
QUADRANT: NE
WEST_LONGITUDE: -112 56 15.00000
EAST_LONGITUDE: -112 52 30.00000
NORTH_LATITUDE: 44 37 30.00000
SOUTH_LATITUDE: 44 33 45.00000
PRODUCTION_DATE: 2000 5 18
RASTER_ORDER: LEFT_RIGHT/TOP_BOTTOM
BAND_ORGANIZATION: SINGLE FILE
BAND_CONTENT: BLACK&WHITE
BAND_CONTENT: UNDEFINED
BAND_CONTENT: UNDEFINED
BITS_PER_PIXEL: 8
SAMPLES_AND_LINES: 5794 7669
HORIZONTAL_DATUM: NAD83
HORIZONTAL_COORDINATE_SYSTEM: UTM
COORDINATE_ZONE: 12
HORIZONTAL_UNITS: METERS
HORIZONTAL_RESOLUTION: 1.00000
SECONDARY_HORIZONTAL_DATUM: NAD27
XY_ORIGIN: 345768.00000 4943420.00000
SECONDARY_XY_ORIGIN: 345831.06000 4943210.83200
NATION: US
NATION: "SCIENCE
STATE: MT
NW_QUAD_CORNER_XY: 346302.14100 4943119.87400
NE_QUAD_CORNER_XY: 351260.16200 4943003.95700
SE_QUAD_CORNERY_XY: 351100.59800 4936061.43700
SW_QUAD_CORNER_XY: 346137.25400 4936177.35100
SECONDARY_NW_QUAD_XY: 346297.64200 4942903.08600
SECONDARY_NE_QUAD_XY: 351255.80800 4942787.16400
SECONDARY_SE_QUAD_XY: 351096.24600 4935844.70500
SECONDARY_SW_QUAD_XY: 346132.75600 4935960.62300
RMSE_XY: 1.10000
IMAGE_SOURCE: BLACK AND WHITE FILM
SOURCE_IMAGE_ID: NAPP 9485 172
SOURCE_IMAGE_DATE: 1995 08 20
SOURCE_IMAGE_ID: NAPP 9485 157
SOURCE_IMAGE_DATE: 1995 08 20
SOURCE_IMAGE_ID: NAPP 9483 189
SOURCE_IMAGE_DATE: 1995 08 14
SOURCE_IMAGE_ID: NAPP 9483 187
SOURCE_IMAGE_DATE: 1995 08 14
SOURCE_IMAGE_ID: NAPP 9485 171
SOURCE_IMAGE_DATE: 1995 08 20
SOURCE_DEM_DATE: 2000 01 01
AGENCY: WESTERN MAPPING CENTER (WMC)
PRODUCER: UNDEFINED
PRODUCTION_SYSTEM: GIS/MAGIC
COMPRESSION: UNDEFINED
STANDARD_VERSION: 1996 12
METADATA_DATE: 2000 05 25
DATA_FILE_SIZE: 44439980
BYTE_COUNT: 5794
