FILENAME: O4411226.NES.1076724.tif
QUADRANGLE_NAME: CABOOSE CANYON
QUADRANT: NE
WEST_LONGITUDE: -112 48 45.00000
EAST_LONGITUDE: -112 45 0.00000
NORTH_LATITUDE: 44 37 30.00000
SOUTH_LATITUDE: 44 33 45.00000
PRODUCTION_DATE: 2000 5 9
RASTER_ORDER: LEFT_RIGHT/TOP_BOTTOM
BAND_ORGANIZATION: SINGLE FILE
BAND_CONTENT: BLACK&WHITE
BAND_CONTENT: UNDEFINED
BAND_CONTENT: UNDEFINED
BITS_PER_PIXEL: 8
SAMPLES_AND_LINES: 5783 7662
HORIZONTAL_DATUM: NAD83
HORIZONTAL_COORDINATE_SYSTEM: UTM
COORDINATE_ZONE: 12
HORIZONTAL_UNITS: METERS
HORIZONTAL_RESOLUTION: 1.00000
SECONDARY_HORIZONTAL_DATUM: NAD27
XY_ORIGIN: 355695.00000 4943192.00000
SECONDARY_XY_ORIGIN: 355758.11700 4942983.16900
NATION: US
NATION: "SCIENCE
STATE: MT
NW_QUAD_CORNER_XY: 356218.18100 4942891.84200
NE_QUAD_CORNER_XY: 361176.19800 4942783.53000
SE_QUAD_CORNERY_XY: 361027.27800 4935841.01800
SW_QUAD_CORNER_XY: 356063.94000 4935949.32600
SECONDARY_NW_QUAD_XY: 356213.97300 4942675.04700
SECONDARY_NE_QUAD_XY: 361172.13400 4942566.73200
SECONDARY_SE_QUAD_XY: 361023.21600 4935624.28000
SECONDARY_SW_QUAD_XY: 356059.73200 4935732.59100
RMSE_XY: 1.60000
IMAGE_SOURCE: BLACK AND WHITE FILM
SOURCE_IMAGE_ID: NAPP 9483 097
SOURCE_IMAGE_DATE: 1995 08 14
SOURCE_IMAGE_ID: NAPP 9483 096
SOURCE_IMAGE_DATE: 1995 08 14
SOURCE_IMAGE_ID: NAPP 9483 098
SOURCE_IMAGE_DATE: 1995 08 14
SOURCE_IMAGE_ID: NAPP 9483 087
SOURCE_IMAGE_DATE: 1995 08 14
SOURCE_IMAGE_ID: NAPP 9483 086
SOURCE_IMAGE_DATE: 1995 08 14
SOURCE_DEM_DATE: 1964 00 00
AGENCY: WESTERN MAPPING CENTER (WMC)
PRODUCER: UNDEFINED
PRODUCTION_SYSTEM: GIS/MAGIC
COMPRESSION: UNDEFINED
STANDARD_VERSION: 1996 12
METADATA_DATE: 2000 05 25
DATA_FILE_SIZE: 44315129
BYTE_COUNT: 5783
