FILENAME: O4411227.SES.1076746.tif
QUADRANGLE_NAME: GALLAGHER GULCH
QUADRANT: SE
WEST_LONGITUDE: -112 41 15.00000
EAST_LONGITUDE: -112 37 30.00000
NORTH_LATITUDE: 44 33 45.00000
SOUTH_LATITUDE: 44 30 0.00000
PRODUCTION_DATE: 2000 5 9
RASTER_ORDER: LEFT_RIGHT/TOP_BOTTOM
BAND_ORGANIZATION: SINGLE FILE
BAND_CONTENT: BLACK&WHITE
BAND_CONTENT: UNDEFINED
BAND_CONTENT: UNDEFINED
BITS_PER_PIXEL: 8
SAMPLES_AND_LINES: 5776 7655
HORIZONTAL_DATUM: NAD83
HORIZONTAL_COORDINATE_SYSTEM: UTM
COORDINATE_ZONE: 12
HORIZONTAL_UNITS: METERS
HORIZONTAL_RESOLUTION: 1.00000
SECONDARY_HORIZONTAL_DATUM: NAD27
XY_ORIGIN: 365479.00000 4936037.00000
SECONDARY_XY_ORIGIN: 365542.07500 4935828.66000
NATION: US
NATION: "SCIENCE
STATE: MT
NW_QUAD_CORNER_XY: 365990.61400 4935736.51200
NE_QUAD_CORNER_XY: 370953.94800 4935635.81000
SE_QUAD_CORNERY_XY: 370815.82600 4928693.37400
SW_QUAD_CORNER_XY: 365847.17700 4928794.07300
SECONDARY_NW_QUAD_XY: 365986.69700 4935519.77200
SECONDARY_NE_QUAD_XY: 370950.17600 4935419.06600
SECONDARY_SE_QUAD_XY: 370812.05500 4928476.69200
SECONDARY_SW_QUAD_XY: 365843.26100 4928577.39400
RMSE_XY: 2.80000
IMAGE_SOURCE: BLACK AND WHITE FILM
SOURCE_IMAGE_ID: NAPP 8383 017
SOURCE_IMAGE_DATE: 1995 08 15
SOURCE_IMAGE_ID: NAPP 8383 018
SOURCE_IMAGE_DATE: 1995 08 15
SOURCE_DEM_DATE: 1997 00 00
AGENCY: WESTERN MAPPING CENTER (WMC)
PRODUCER: UNDEFINED
PRODUCTION_SYSTEM: GIS/MAGIC
COMPRESSION: UNDEFINED
STANDARD_VERSION: 1996 12
METADATA_DATE: 2000 05 25
DATA_FILE_SIZE: 44221056
BYTE_COUNT: 5776
