FILENAME: O4411228.SES.1077639.tif
QUADRANGLE_NAME: LIMA PEAKS
QUADRANT: SE
WEST_LONGITUDE: -112 33 45.00000
EAST_LONGITUDE: -112 30 0.00000
NORTH_LATITUDE: 44 33 45.00000
SOUTH_LATITUDE: 44 30 0.00000
PRODUCTION_DATE: 2000 4 20
RASTER_ORDER: LEFT_RIGHT/TOP_BOTTOM
BAND_ORGANIZATION: SINGLE FILE
BAND_CONTENT: BLACK&WHITE
BAND_CONTENT: UNDEFINED
BAND_CONTENT: UNDEFINED
BITS_PER_PIXEL: 8
SAMPLES_AND_LINES: 5766 7647
HORIZONTAL_DATUM: NAD83
HORIZONTAL_COORDINATE_SYSTEM: UTM
COORDINATE_ZONE: 12
HORIZONTAL_UNITS: METERS
HORIZONTAL_RESOLUTION: 1.00000
SECONDARY_HORIZONTAL_DATUM: NAD27
XY_ORIGIN: 375416.00000 4935839.00000
SECONDARY_XY_ORIGIN: 375479.02700 4935630.92600
NATION: US
NATION: "SCIENCE
STATE: MT
NW_QUAD_CORNER_XY: 375917.27800 4935538.90900
NE_QUAD_CORNER_XY: 380880.60700 4935445.81000
SE_QUAD_CORNERY_XY: 380753.11500 4928503.38200
SW_QUAD_CORNER_XY: 375784.47200 4928596.47700
SECONDARY_NW_QUAD_XY: 375913.65100 4935322.16300
SECONDARY_NE_QUAD_XY: 380877.12500 4935229.06100
SECONDARY_SE_QUAD_XY: 380749.63400 4928286.69500
SECONDARY_SW_QUAD_XY: 375780.84600 4928379.79300
RMSE_XY: 2.10000
IMAGE_SOURCE: BLACK AND WHITE FILM
SOURCE_IMAGE_ID: NAPP 8383 024
SOURCE_IMAGE_DATE: 1995 08 15
SOURCE_IMAGE_ID: NAPP 8383 025
SOURCE_IMAGE_DATE: 1995 08 15
SOURCE_IMAGE_ID: NAPP 8383 023
SOURCE_IMAGE_DATE: 1995 08 15
SOURCE_IMAGE_ID: NAPP 8382 217
SOURCE_IMAGE_DATE: 1995 08 01
SOURCE_DEM_DATE: 1992 00 00
AGENCY: WESTERN MAPPING CENTER (WMC)
PRODUCER: UNDEFINED
PRODUCTION_SYSTEM: GIS/MAGIC
COMPRESSION: UNDEFINED
STANDARD_VERSION: 1996 12
METADATA_DATE: 2000 05 26
DATA_FILE_SIZE: 44098368
BYTE_COUNT: 5766
