FILENAME: O4411229.SWS.1077707.tif
QUADRANGLE_NAME: SNOWLINE
QUADRANT: SW
WEST_LONGITUDE: -112 30 0.00000
EAST_LONGITUDE: -112 26 15.00000
NORTH_LATITUDE: 44 33 45.00000
SOUTH_LATITUDE: 44 30 0.00000
PRODUCTION_DATE: 2000 4 14
RASTER_ORDER: LEFT_RIGHT/TOP_BOTTOM
BAND_ORGANIZATION: SINGLE FILE
BAND_CONTENT: BLACK&WHITE
BAND_CONTENT: UNDEFINED
BAND_CONTENT: UNDEFINED
BITS_PER_PIXEL: 8
SAMPLES_AND_LINES: 5760 7643
HORIZONTAL_DATUM: NAD83
HORIZONTAL_COORDINATE_SYSTEM: UTM
COORDINATE_ZONE: 12
HORIZONTAL_UNITS: METERS
HORIZONTAL_RESOLUTION: 1.00000
SECONDARY_HORIZONTAL_DATUM: NAD27
XY_ORIGIN: 380385.00000 4935746.00000
SECONDARY_XY_ORIGIN: 380447.98500 4935538.08300
NATION: US
NATION: "SCIENCE
STATE: MT
NW_QUAD_CORNER_XY: 380880.60700 4935445.81000
NE_QUAD_CORNER_XY: 385843.93300 4935356.51300
SE_QUAD_CORNERY_XY: 385721.75500 4928414.08800
SW_QUAD_CORNER_XY: 380753.11500 4928503.38200
SECONDARY_NW_QUAD_XY: 380877.12500 4935229.06100
SECONDARY_NE_QUAD_XY: 385840.59600 4935139.76100
SECONDARY_SE_QUAD_XY: 385718.42000 4928197.39900
SECONDARY_SW_QUAD_XY: 380749.63400 4928286.69500
RMSE_XY: 1.10000
IMAGE_SOURCE: BLACK AND WHITE FILM
SOURCE_IMAGE_ID: NAPP 8382 217
SOURCE_IMAGE_DATE: 1995 08 01
SOURCE_IMAGE_ID: NAPP 8382 216
SOURCE_IMAGE_DATE: 1995 08 01
SOURCE_IMAGE_ID: NAPP 8382 227
SOURCE_IMAGE_DATE: 1995 08 01
SOURCE_DEM_DATE: 2000 01 01
AGENCY: WESTERN MAPPING CENTER (WMC)
PRODUCER: UNDEFINED
PRODUCTION_SYSTEM: GIS/MAGIC
COMPRESSION: UNDEFINED
STANDARD_VERSION: 1996 12
METADATA_DATE: 2000 05 26
DATA_FILE_SIZE: 44029440
BYTE_COUNT: 5760
