FILENAME: O4411229.SES.1077706.tif
QUADRANGLE_NAME: SNOWLINE
QUADRANT: SE
WEST_LONGITUDE: -112 26 15.00000
EAST_LONGITUDE: -112 22 30.00000
NORTH_LATITUDE: 44 33 45.00000
SOUTH_LATITUDE: 44 30 0.00000
PRODUCTION_DATE: 2000 4 14
RASTER_ORDER: LEFT_RIGHT/TOP_BOTTOM
BAND_ORGANIZATION: SINGLE FILE
BAND_CONTENT: BLACK&WHITE
BAND_CONTENT: UNDEFINED
BAND_CONTENT: UNDEFINED
BITS_PER_PIXEL: 8
SAMPLES_AND_LINES: 5755 7640
HORIZONTAL_DATUM: NAD83
HORIZONTAL_COORDINATE_SYSTEM: UTM
COORDINATE_ZONE: 12
HORIZONTAL_UNITS: METERS
HORIZONTAL_RESOLUTION: 1.00000
SECONDARY_HORIZONTAL_DATUM: NAD27
XY_ORIGIN: 385354.00000 4935657.00000
SECONDARY_XY_ORIGIN: 385417.04900 4935449.02800
NATION: US
NATION: "SCIENCE
STATE: MT
NW_QUAD_CORNER_XY: 385843.93300 4935356.51300
NE_QUAD_CORNER_XY: 390807.25600 4935271.01800
SE_QUAD_CORNERY_XY: 390690.39300 4928328.59600
SW_QUAD_CORNER_XY: 385721.75500 4928414.08800
SECONDARY_NW_QUAD_XY: 385840.59600 4935139.76100
SECONDARY_NE_QUAD_XY: 390804.06500 4935054.26300
SECONDARY_SE_QUAD_XY: 390687.20300 4928111.90400
SECONDARY_SW_QUAD_XY: 385718.42000 4928197.39900
RMSE_XY: 1.00000
IMAGE_SOURCE: BLACK AND WHITE FILM
SOURCE_IMAGE_ID: NAPP 8382 228
SOURCE_IMAGE_DATE: 1995 08 01
SOURCE_IMAGE_ID: NAPP 8382 227
SOURCE_IMAGE_DATE: 1995 08 01
SOURCE_IMAGE_ID: NAPP 8382 229
SOURCE_IMAGE_DATE: 1995 08 01
SOURCE_DEM_DATE: 2000 01 01
AGENCY: WESTERN MAPPING CENTER (WMC)
PRODUCER: UNDEFINED
PRODUCTION_SYSTEM: GIS/MAGIC
COMPRESSION: UNDEFINED
STANDARD_VERSION: 1996 12
METADATA_DATE: 2000 05 26
DATA_FILE_SIZE: 43973955
BYTE_COUNT: 5755
