FILENAME: O4411229.NES.1077704.tif
QUADRANGLE_NAME: SNOWLINE
QUADRANT: NE
WEST_LONGITUDE: -112 26 15.00000
EAST_LONGITUDE: -112 22 30.00000
NORTH_LATITUDE: 44 37 30.00000
SOUTH_LATITUDE: 44 33 45.00000
PRODUCTION_DATE: 2000 4 14
RASTER_ORDER: LEFT_RIGHT/TOP_BOTTOM
BAND_ORGANIZATION: SINGLE FILE
BAND_CONTENT: BLACK&WHITE
BAND_CONTENT: UNDEFINED
BAND_CONTENT: UNDEFINED
BITS_PER_PIXEL: 8
SAMPLES_AND_LINES: 5750 7640
HORIZONTAL_DATUM: NAD83
HORIZONTAL_COORDINATE_SYSTEM: UTM
COORDINATE_ZONE: 12
HORIZONTAL_UNITS: METERS
HORIZONTAL_RESOLUTION: 1.00000
SECONDARY_HORIZONTAL_DATUM: NAD27
XY_ORIGIN: 385476.00000 4942600.00000
SECONDARY_XY_ORIGIN: 385539.04100 4942391.87500
NATION: US
NATION: "SCIENCE
STATE: MT
NW_QUAD_CORNER_XY: 385966.24700 4942299.00900
NE_QUAD_CORNER_XY: 390924.25000 4942213.51100
SE_QUAD_CORNERY_XY: 390807.25600 4935271.01800
SW_QUAD_CORNER_XY: 385843.93300 4935356.51300
SECONDARY_NW_QUAD_XY: 385962.90900 4942082.19700
SECONDARY_NE_QUAD_XY: 390921.05700 4941996.69600
SECONDARY_SE_QUAD_XY: 390804.06500 4935054.26300
SECONDARY_SW_QUAD_XY: 385840.59600 4935139.76100
RMSE_XY: 1.20000
IMAGE_SOURCE: BLACK AND WHITE FILM
SOURCE_IMAGE_ID: NAPP 8382 230
SOURCE_IMAGE_DATE: 1995 08 01
SOURCE_IMAGE_ID: NAPP 8382 215
SOURCE_IMAGE_DATE: 1995 08 01
SOURCE_IMAGE_ID: NAPP 8382 229
SOURCE_IMAGE_DATE: 1995 08 01
SOURCE_DEM_DATE: 2000 01 01
AGENCY: WESTERN MAPPING CENTER (WMC)
PRODUCER: UNDEFINED
PRODUCTION_SYSTEM: GIS/MAGIC
COMPRESSION: UNDEFINED
STANDARD_VERSION: 1996 12
METADATA_DATE: 2000 05 26
DATA_FILE_SIZE: 43935750
BYTE_COUNT: 5750
