FILENAME: O4411231.NWS.1077773.tif
QUADRANGLE_NAME: CORRAL CREEK
QUADRANT: NW
WEST_LONGITUDE: -112 15 0.00000
EAST_LONGITUDE: -112 11 15.00000
NORTH_LATITUDE: 44 37 30.00000
SOUTH_LATITUDE: 44 33 45.00000
PRODUCTION_DATE: 2000 3 15
RASTER_ORDER: LEFT_RIGHT/TOP_BOTTOM
BAND_ORGANIZATION: SINGLE FILE
BAND_CONTENT: BLACK&WHITE
BAND_CONTENT: UNDEFINED
BAND_CONTENT: UNDEFINED
BITS_PER_PIXEL: 8
SAMPLES_AND_LINES: 5734 7628
HORIZONTAL_DATUM: NAD83
HORIZONTAL_COORDINATE_SYSTEM: UTM
COORDINATE_ZONE: 12
HORIZONTAL_UNITS: METERS
HORIZONTAL_RESOLUTION: 1.00000
SECONDARY_HORIZONTAL_DATUM: NAD27
XY_ORIGIN: 400366.00000 4942354.00000
SECONDARY_XY_ORIGIN: 400429.15300 4942145.77800
NATION: US
NATION: "SCIENCE
STATE: MT
STATE: ID
NW_QUAD_CORNER_XY: 400840.25200 4942053.91800
NE_QUAD_CORNER_XY: 405798.25000 4941979.82300
SE_QUAD_CORNERY_XY: 405697.21500 4935037.33800
SW_QUAD_CORNER_XY: 400733.89700 4935111.43000
SECONDARY_NW_QUAD_XY: 400837.34900 4941837.09800
SECONDARY_NE_QUAD_XY: 405795.49200 4941763.00100
SECONDARY_SE_QUAD_XY: 405694.45800 4934820.57700
SECONDARY_SW_QUAD_XY: 400730.99600 4934894.67100
RMSE_XY: 1.50000
IMAGE_SOURCE: BLACK AND WHITE FILM
SOURCE_IMAGE_ID: NAPP 9484 192
SOURCE_IMAGE_DATE: 1995 08 14
SOURCE_IMAGE_ID: NAPP 9484 194
SOURCE_IMAGE_DATE: 1995 08 14
SOURCE_IMAGE_ID: NAPP 9484 199
SOURCE_IMAGE_DATE: 1995 08 14
SOURCE_DEM_DATE: 1967 00 00
AGENCY: WESTERN MAPPING CENTER (WMC)
PRODUCER: UNDEFINED
PRODUCTION_SYSTEM: GIS/MAGIC
COMPRESSION: UNDEFINED
STANDARD_VERSION: 1996 12
METADATA_DATE: 2000 05 26
DATA_FILE_SIZE: 43744686
BYTE_COUNT: 5734
