FILENAME: O4411232.NES.1077796.tif
QUADRANGLE_NAME: BIG TABLE MOUNTAIN
QUADRANT: NE
WEST_LONGITUDE: -112 3 45.00000
EAST_LONGITUDE: -112 0 0.00000
NORTH_LATITUDE: 44 37 30.00000
SOUTH_LATITUDE: 44 33 45.00000
PRODUCTION_DATE: 2000 3 16
RASTER_ORDER: LEFT_RIGHT/TOP_BOTTOM
BAND_ORGANIZATION: SINGLE FILE
BAND_CONTENT: BLACK&WHITE
BAND_CONTENT: UNDEFINED
BAND_CONTENT: UNDEFINED
BITS_PER_PIXEL: 8
SAMPLES_AND_LINES: 5717 7617
HORIZONTAL_DATUM: NAD83
HORIZONTAL_COORDINATE_SYSTEM: UTM
COORDINATE_ZONE: 12
HORIZONTAL_UNITS: METERS
HORIZONTAL_RESOLUTION: 1.00000
SECONDARY_HORIZONTAL_DATUM: NAD27
XY_ORIGIN: 415257.00000 4942144.00000
SECONDARY_XY_ORIGIN: 415319.65400 4941935.93000
NATION: US
NATION: "SCIENCE
STATE: MT
NW_QUAD_CORNER_XY: 415714.24100 4941843.03600
NE_QUAD_CORNER_XY: 420672.23500 4941780.34300
SE_QUAD_CORNERY_XY: 420587.15600 4934837.86400
SW_QUAD_CORNER_XY: 415623.84400 4934900.55500
SECONDARY_NW_QUAD_XY: 415711.77400 4941626.21000
SECONDARY_NE_QUAD_XY: 420669.91300 4941563.51500
SECONDARY_SE_QUAD_XY: 420584.83500 4934621.09700
SECONDARY_SW_QUAD_XY: 415621.37800 4934683.79000
RMSE_XY: 1.20000
IMAGE_SOURCE: BLACK AND WHITE FILM
SOURCE_IMAGE_ID: NAPP 9485 240
SOURCE_IMAGE_DATE: 1995 08 20
SOURCE_IMAGE_ID: NAPP 9485 242
SOURCE_IMAGE_DATE: 1995 08 20
SOURCE_DEM_DATE: 1968 00 00
AGENCY: WESTERN MAPPING CENTER (WMC)
PRODUCER: UNDEFINED
PRODUCTION_SYSTEM: GIS/MAGIC
COMPRESSION: UNDEFINED
STANDARD_VERSION: 1996 12
METADATA_DATE: 2000 05 26
DATA_FILE_SIZE: 43552106
BYTE_COUNT: 5717
