BEGIN_USGS_DOQ_HEADER *
QUADRANGLE_NAME "FRITZ PEAK" *
QUADRANT NW *
WEST_LONGITUDE -112 45 0.000 *
EAST_LONGITUDE -112 41 15.000 *
NORTH_LATITUDE 44 30 0.000 *
SOUTH_LATITUDE 44 26 15.000 *
PRODUCTION_DATE 2003 4 19 *
RASTER_ORDER LEFT_RIGHT/TOP_BOTTOM *
BAND_ORGANIZATION "SINGLE FILE" *
BAND_CONTENT BLACK&WHITE *
BITS_PER_PIXEL 8 *
SAMPLES_AND_LINES 5784 7655 *
HORIZONTAL_DATUM NAD83 *
HORIZONTAL_COORDINATE_SYSTEM UTM *
COORDINATE_ZONE 12 *
HORIZONTAL_UNITS METERS *
HORIZONTAL_RESOLUTION 1.0 *
SECONDARY_HORIZONTAL_DATUM NAD27 *
XY_ORIGIN 360362.969 4929198.575 *
SECONDARY_XY_ORIGIN 360426.010 4928990.286 *
NATION US *
STATE ID *
STATE MT *
NW_QUAD_CORNER_XY 360878.525 4928898.575 *
NE_QUAD_CORNER_XY 365847.177 4928794.073 *
SE_QUAD_CORNER_XY 365703.900 4921851.704 *
SW_QUAD_CORNER_XY 360729.939 4921956.200 *
SECONDARY_NW_QUAD_XY 360874.465 4928681.898 *
SECONDARY_NE_QUAD_XY 365843.263 4928577.394 *
SECONDARY_SE_QUAD_XY 365699.987 4921635.087 *
SECONDARY_SW_QUAD_XY 360725.880 4921739.587 *
RMSE_XY 2.01 *
IMAGE_SOURCE "BLACK AND WHITE FILM" *
SOURCE_IMAGE_ID "NAPP 10690 104" *
SOURCE_IMAGE_DATE 1999 8 16 *
SOURCE_IMAGE_ID "NAPP 10690 105" *
SOURCE_IMAGE_DATE 1999 8 16 *
SOURCE_IMAGE_ID "NAPP 10690 103" *
SOURCE_IMAGE_DATE 1999 8 16 *
SOURCE_IMAGE_ID "NAPP 10690 160" *
SOURCE_IMAGE_DATE 1999 8 16 *
SOURCE_IMAGE_ID "NAPP 10690 161" *
SOURCE_IMAGE_DATE 1999 8 16 *
SOURCE_IMAGE_ID "NAPP 10690 162" *
SOURCE_IMAGE_DATE 1999 8 16 *
SOURCE_IMAGE_ID "NAPP 10684 183" *
SOURCE_IMAGE_DATE 1999 7 24 *
SOURCE_IMAGE_ID "NAPP 10684 184" *
SOURCE_IMAGE_DATE 1999 7 24 *
SOURCE_IMAGE_ID "NAPP 10684 185" *
SOURCE_IMAGE_DATE 1999 7 24 *
SOURCE_DEM_DATE 2003 1 1 *
AGENCY "WESTERN MAPPING CENTER (WMC)" *
PRODUCER "USDA FS GEOSPATIAL SERVICE AND TECHNOLOGY CENTER" *
PRODUCTION_SYSTEM "ORBIT OR_RECTIFY V.5.2" *
STANDARD_VERSION 1996 12 *
METADATA_DATE 2003 6 5 *
DATA_FILE_SIZE 44282304 *
BYTE_COUNT 5784 *
