BEGIN_USGS_DOQ_HEADER *
QUADRANGLE_NAME "EDIE CREEK" *
QUADRANT NW *
WEST_LONGITUDE -112 37 30.000 *
EAST_LONGITUDE -112 33 45.000 *
NORTH_LATITUDE 44 30 0.000 *
SOUTH_LATITUDE 44 26 15.000 *
PRODUCTION_DATE 2003 4 14 *
RASTER_ORDER LEFT_RIGHT/TOP_BOTTOM *
BAND_ORGANIZATION "SINGLE FILE" *
BAND_CONTENT BLACK&WHITE *
BITS_PER_PIXEL 8 *
SAMPLES_AND_LINES 5773 7648 *
HORIZONTAL_DATUM NAD83 *
HORIZONTAL_COORDINATE_SYSTEM UTM *
COORDINATE_ZONE 12 *
HORIZONTAL_UNITS METERS *
HORIZONTAL_RESOLUTION 1.0 *
SECONDARY_HORIZONTAL_DATUM NAD27 *
XY_ORIGIN 370311.188 4928993.374 *
SECONDARY_XY_ORIGIN 370374.202 4928785.350 *
NATION US *
STATE ID *
STATE MT *
NW_QUAD_CORNER_XY 370815.826 4928693.374 *
NE_QUAD_CORNER_XY 375784.472 4928596.477 *
SE_QUAD_CORNER_XY 375651.814 4921654.116 *
SW_QUAD_CORNER_XY 370677.859 4921751.009 *
SECONDARY_NW_QUAD_XY 370812.057 4928476.692 *
SECONDARY_NE_QUAD_XY 375780.848 4928379.792 *
SECONDARY_SE_QUAD_XY 375648.191 4921437.494 *
SECONDARY_SW_QUAD_XY 370674.091 4921534.390 *
RMSE_XY 1.78 *
IMAGE_SOURCE "BLACK AND WHITE FILM" *
SOURCE_IMAGE_ID "NAPP 10684 191" *
SOURCE_IMAGE_DATE 1999 7 24 *
SOURCE_IMAGE_ID "NAPP 10684 192" *
SOURCE_IMAGE_DATE 1999 7 24 *
SOURCE_IMAGE_ID "NAPP 10684 190" *
SOURCE_IMAGE_DATE 1999 7 24 *
SOURCE_IMAGE_ID "NAPP 10684 183" *
SOURCE_IMAGE_DATE 1999 7 24 *
SOURCE_IMAGE_ID "NAPP 10684 184" *
SOURCE_IMAGE_DATE 1999 7 24 *
SOURCE_IMAGE_ID "NAPP 10684 185" *
SOURCE_IMAGE_DATE 1999 7 24 *
SOURCE_IMAGE_ID "NAPP 10684 197" *
SOURCE_IMAGE_DATE 1999 7 24 *
SOURCE_IMAGE_ID "NAPP 10684 198" *
SOURCE_IMAGE_DATE 1999 7 24 *
SOURCE_IMAGE_ID "NAPP 10684 199" *
SOURCE_IMAGE_DATE 1999 7 24 *
SOURCE_DEM_DATE 2003 1 1 *
AGENCY "WESTERN MAPPING CENTER (WMC)" *
PRODUCER "USDA FS GEOSPATIAL SERVICE AND TECHNOLOGY CENTER" *
PRODUCTION_SYSTEM "ORBIT OR_RECTIFY V.5.2" *
STANDARD_VERSION 1996 12 *
METADATA_DATE 2003 6 5 *
DATA_FILE_SIZE 44157677 *
BYTE_COUNT 5773 *
