FILENAME: O4411237.NES.1077708.tif
QUADRANGLE_NAME: TEPEE DRAW
QUADRANT: NE
WEST_LONGITUDE: -112 26 15.00000
EAST_LONGITUDE: -112 22 30.00000
NORTH_LATITUDE: 44 30 0.00000
SOUTH_LATITUDE: 44 26 15.00000
PRODUCTION_DATE: 2000 4 14
RASTER_ORDER: LEFT_RIGHT/TOP_BOTTOM
BAND_ORGANIZATION: SINGLE FILE
BAND_CONTENT: BLACK&WHITE
BAND_CONTENT: UNDEFINED
BAND_CONTENT: UNDEFINED
BITS_PER_PIXEL: 8
SAMPLES_AND_LINES: 5760 7640
HORIZONTAL_DATUM: NAD83
HORIZONTAL_COORDINATE_SYSTEM: UTM
COORDINATE_ZONE: 12
HORIZONTAL_UNITS: METERS
HORIZONTAL_RESOLUTION: 1.00000
SECONDARY_HORIZONTAL_DATUM: NAD27
XY_ORIGIN: 385232.00000 4928715.00000
SECONDARY_XY_ORIGIN: 385295.07600 4928507.16900
NATION: US
NATION: "SCIENCE
STATE: MT
STATE: ID
NW_QUAD_CORNER_XY: 385721.75500 4928414.08800
NE_QUAD_CORNER_XY: 390690.39300 4928328.59600
SE_QUAD_CORNERY_XY: 390573.66100 4921386.24700
SW_QUAD_CORNER_XY: 385599.71500 4921471.73500
SECONDARY_NW_QUAD_XY: 385718.42000 4928197.39900
SECONDARY_NE_QUAD_XY: 390687.20300 4928111.90400
SECONDARY_SE_QUAD_XY: 390570.47100 4921169.61700
SECONDARY_SW_QUAD_XY: 385596.38000 4921255.10800
RMSE_XY: 1.60000
IMAGE_SOURCE: BLACK AND WHITE FILM
SOURCE_IMAGE_ID: NAPP 8382 226
SOURCE_IMAGE_DATE: 1995 08 01
SOURCE_IMAGE_ID: NAPP 8382 225
SOURCE_IMAGE_DATE: 1995 08 01
SOURCE_IMAGE_ID: NAPP 8382 227
SOURCE_IMAGE_DATE: 1995 08 01
SOURCE_IMAGE_ID: NAPP 9484 066
SOURCE_IMAGE_DATE: 1995 08 14
SOURCE_DEM_DATE: 1981 00 00
AGENCY: WESTERN MAPPING CENTER (WMC)
PRODUCER: UNDEFINED
PRODUCTION_SYSTEM: GIS/MAGIC
COMPRESSION: UNDEFINED
STANDARD_VERSION: 1996 12
METADATA_DATE: 2000 05 26
DATA_FILE_SIZE: 44012160
BYTE_COUNT: 5760
