FILENAME: O4411101.NWS.789282.tif
QUADRANGLE_NAME: IRON CREEK
QUADRANT: NW
WEST_LONGITUDE: -112 0 0.00000
EAST_LONGITUDE: -111 56 15.00000
NORTH_LATITUDE: 45 0 0.00000
SOUTH_LATITUDE: 44 56 15.00000
PRODUCTION_DATE: 1997 11 24
RASTER_ORDER: LEFT_RIGHT/TOP_BOTTOM
BAND_ORGANIZATION: SINGLE FILE
BAND_CONTENT: BLACK&WHITE
BAND_CONTENT: UNDEFINED
BAND_CONTENT: UNDEFINED
BITS_PER_PIXEL: 8
SAMPLES_AND_LINES: 5675 7610
HORIZONTAL_DATUM: NAD83
HORIZONTAL_COORDINATE_SYSTEM: UTM
COORDINATE_ZONE: 12
HORIZONTAL_UNITS: METERS
HORIZONTAL_RESOLUTION: 1.00000
SECONDARY_HORIZONTAL_DATUM: NAD27
XY_ORIGIN: 420735.87300 4983736.26900
SECONDARY_XY_ORIGIN: 420796.91700 4983527.23700
NATION: US
STATE: MT
NW_QUAD_CORNER_XY: 421184.69700 4983436.76900
NE_QUAD_CORNER_XY: 426110.65400 4983377.87000
SE_QUAD_CORNERY_XY: 426030.36100 4976434.94800
SW_QUAD_CORNER_XY: 421099.05000 4976493.84600
SECONDARY_NW_QUAD_XY: 421182.37100 4983219.59200
SECONDARY_NE_QUAD_XY: 426108.47300 4983160.69200
SECONDARY_SE_QUAD_XY: 426028.18100 4976217.82600
SECONDARY_SW_QUAD_XY: 421096.72500 4976276.72600
RMSE_XY: 5.30000
IMAGE_SOURCE: BLACK AND WHITE FILM
SOURCE_IMAGE_ID: NAPP 8376 148
SOURCE_IMAGE_DATE: 1995 8 15
SOURCE_DEM_DATE: 1997 11 24
AGENCY: WESTERN MAPPING CENTER (WMC)
PRODUCER: NIES MAPPING GROUP
PRODUCTION_SYSTEM: INTERGRAPH- ISPM,ISIR
COMPRESSION: UNDEFINED
STANDARD_VERSION: 1996 12
METADATA_DATE: 1998 2 5
DATA_FILE_SIZE: 43192425
BYTE_COUNT: 5675
