FILENAME: O4411107.NWS.830093.tif
QUADRANGLE_NAME: UPPER TEPEE BASIN
QUADRANT: NW
WEST_LONGITUDE: -111 15 0.00000
EAST_LONGITUDE: -111 11 15.00000
NORTH_LATITUDE: 45 0 0.00000
SOUTH_LATITUDE: 44 56 15.00000
PRODUCTION_DATE: 1997 11 4
RASTER_ORDER: LEFT_RIGHT/TOP_BOTTOM
BAND_ORGANIZATION: SINGLE FILE
BAND_CONTENT: BLACK&WHITE
BAND_CONTENT: UNDEFINED
BAND_CONTENT: UNDEFINED
BITS_PER_PIXEL: 8
SAMPLES_AND_LINES: 5613 7567
HORIZONTAL_DATUM: NAD83
HORIZONTAL_COORDINATE_SYSTEM: UTM
COORDINATE_ZONE: 12
HORIZONTAL_UNITS: METERS
HORIZONTAL_RESOLUTION: 1.00000
SECONDARY_HORIZONTAL_DATUM: NAD27
XY_ORIGIN: 479911.00000 4983281.00000
SECONDARY_XY_ORIGIN: 479972.35900 4983071.62700
NATION: US
NATION: "SCIENCE
STATE: MT
NW_QUAD_CORNER_XY: 480296.17600 4982980.79600
NE_QUAD_CORNER_XY: 485222.13200 4982967.49800
SE_QUAD_CORNERY_XY: 485206.07500 4976024.57800
SW_QUAD_CORNER_XY: 480274.76600 4976037.87700
SECONDARY_NW_QUAD_XY: 480295.59400 4982763.60600
SECONDARY_NE_QUAD_XY: 485221.69600 4982750.30800
SECONDARY_SE_QUAD_XY: 485205.63900 4975807.44400
SECONDARY_SW_QUAD_XY: 480274.18500 4975820.74300
RMSE_XY: 2.10000
IMAGE_SOURCE: BLACK AND WHITE FILM
SOURCE_IMAGE_ID: NAPP 8375 118
SOURCE_IMAGE_DATE: 1995 08 12
SOURCE_IMAGE_ID: NAPP 8375 119
SOURCE_IMAGE_DATE: 1995 08 12
SOURCE_IMAGE_ID: NAPP 8375 117
SOURCE_IMAGE_DATE: 1995 08 12
SOURCE_DEM_DATE: 1997 01 01
AGENCY: WESTERN MAPPING CENTER (WMC)
PRODUCER: UNDEFINED
PRODUCTION_SYSTEM: GIS/MAGIC
COMPRESSION: UNDEFINED
STANDARD_VERSION: 1996 12
METADATA_DATE: 1997 11 13
DATA_FILE_SIZE: 42479184
BYTE_COUNT: 5613
