FILENAME: O4411108.SWS.830053.tif
QUADRANGLE_NAME: DIVIDE LAKE
QUADRANT: SW
WEST_LONGITUDE: -111 7 30.00000
EAST_LONGITUDE: -111 3 45.00000
NORTH_LATITUDE: 44 56 15.00000
SOUTH_LATITUDE: 44 52 30.00000
PRODUCTION_DATE: 1997 11 4
RASTER_ORDER: LEFT_RIGHT/TOP_BOTTOM
BAND_ORGANIZATION: SINGLE FILE
BAND_CONTENT: BLACK&WHITE
BAND_CONTENT: UNDEFINED
BAND_CONTENT: UNDEFINED
BITS_PER_PIXEL: 8
SAMPLES_AND_LINES: 5606 7560
HORIZONTAL_DATUM: NAD83
HORIZONTAL_COORDINATE_SYSTEM: UTM
COORDINATE_ZONE: 12
HORIZONTAL_UNITS: METERS
HORIZONTAL_RESOLUTION: 1.00000
SECONDARY_HORIZONTAL_DATUM: NAD27
XY_ORIGIN: 489764.00000 4976316.00000
SECONDARY_XY_ORIGIN: 489825.28000 4976106.68900
NATION: US
NATION: "SCIENCE
STATE: MT
NW_QUAD_CORNER_XY: 490137.38300 4976015.07900
NE_QUAD_CORNER_XY: 495068.69200 4976009.38000
SE_QUAD_CORNERY_XY: 495063.34500 4969066.53700
SW_QUAD_CORNER_XY: 490126.69000 4969072.23600
SECONDARY_NW_QUAD_XY: 490137.09200 4975797.94500
SECONDARY_NE_QUAD_XY: 495068.54600 4975792.24500
SECONDARY_SE_QUAD_XY: 495063.20000 4968849.45900
SECONDARY_SW_QUAD_XY: 490126.40000 4968855.15800
RMSE_XY: 2.40000
IMAGE_SOURCE: BLACK AND WHITE FILM
SOURCE_IMAGE_ID: NAPP 7817 074
SOURCE_IMAGE_DATE: 1994 06 27
SOURCE_IMAGE_ID: NAPP 8375 149
SOURCE_IMAGE_DATE: 1995 08 12
SOURCE_DEM_DATE: 1997 01 01
AGENCY: WESTERN MAPPING CENTER (WMC)
PRODUCER: UNDEFINED
PRODUCTION_SYSTEM: GIS/MAGIC
COMPRESSION: UNDEFINED
STANDARD_VERSION: 1996 12
METADATA_DATE: 1997 11 13
DATA_FILE_SIZE: 42386966
BYTE_COUNT: 5606
