FILENAME: O4411110.SES.789307.tif
QUADRANGLE_NAME: WINDY HILL
QUADRANT: SE
WEST_LONGITUDE: -111 48 45.00000
EAST_LONGITUDE: -111 45 0.00000
NORTH_LATITUDE: 44 48 45.00000
SOUTH_LATITUDE: 44 45 0.00000
PRODUCTION_DATE: 1997 11 4
RASTER_ORDER: LEFT_RIGHT/TOP_BOTTOM
BAND_ORGANIZATION: SINGLE FILE
BAND_CONTENT: BLACK&WHITE
BAND_CONTENT: UNDEFINED
BAND_CONTENT: UNDEFINED
BITS_PER_PIXEL: 8
SAMPLES_AND_LINES: 5675 7599
HORIZONTAL_DATUM: NAD83
HORIZONTAL_COORDINATE_SYSTEM: UTM
COORDINATE_ZONE: 12
HORIZONTAL_UNITS: METERS
HORIZONTAL_RESOLUTION: 1.00000
SECONDARY_HORIZONTAL_DATUM: NAD27
XY_ORIGIN: 435321.28200 4962742.43400
SECONDARY_XY_ORIGIN: 435383.20200 4962533.76500
NATION: US
STATE: MT
NW_QUAD_CORNER_XY: 435754.04100 4962442.93400
NE_QUAD_CORNER_XY: 440696.04100 4962395.43800
SE_QUAD_CORNERY_XY: 440632.02100 4955452.74100
SW_QUAD_CORNER_XY: 435684.68600 4955500.23600
SECONDARY_NW_QUAD_XY: 435752.15300 4962225.92300
SECONDARY_NE_QUAD_XY: 440694.29800 4962178.42500
SECONDARY_SE_QUAD_XY: 440630.27900 4955235.78800
SECONDARY_SW_QUAD_XY: 435682.79800 4955283.28400
RMSE_XY: 1.40000
IMAGE_SOURCE: BLACK AND WHITE FILM
SOURCE_IMAGE_ID: NAPP 8374 174
SOURCE_IMAGE_DATE: 1995 8 12
SOURCE_DEM_DATE: 1997 11 4
AGENCY: WESTERN MAPPING CENTER (WMC)
PRODUCER: NIES MAPPING GROUP
PRODUCTION_SYSTEM: INTERGRAPH- ISPM,ISIR
COMPRESSION: UNDEFINED
STANDARD_VERSION: 1996 12
METADATA_DATE: 1998 2 5
DATA_FILE_SIZE: 43130000
BYTE_COUNT: 5675
