FILENAME: O4411111.SES.971426.tif
QUADRANGLE_NAME: FREEZEOUT MOUNTAIN
QUADRANT: SE
WEST_LONGITUDE: -111 41 15.00000
EAST_LONGITUDE: -111 37 30.00000
NORTH_LATITUDE: 44 48 45.00000
SOUTH_LATITUDE: 44 45 0.00000
PRODUCTION_DATE: 1999 2 25
RASTER_ORDER: LEFT_RIGHT/TOP_BOTTOM
BAND_ORGANIZATION: SINGLE FILE
BAND_CONTENT: BLACK&WHITE
BAND_CONTENT: UNDEFINED
BAND_CONTENT: UNDEFINED
BITS_PER_PIXEL: 8
SAMPLES_AND_LINES: 5668 7594
HORIZONTAL_DATUM: NAD83
HORIZONTAL_COORDINATE_SYSTEM: UTM
COORDINATE_ZONE: 12
HORIZONTAL_UNITS: METERS
HORIZONTAL_RESOLUTION: 1.00000
SECONDARY_HORIZONTAL_DATUM: NAD27
XY_ORIGIN: 445214.00000 4962652.00000
SECONDARY_XY_ORIGIN: 445275.84900 4962443.17800
NATION: US
NATION: "SCIENCE
STATE: MT
NW_QUAD_CORNER_XY: 445638.03900 4962351.74100
NE_QUAD_CORNER_XY: 450580.03700 4962311.84500
SE_QUAD_CORNERY_XY: 450526.68900 4955369.15100
SW_QUAD_CORNER_XY: 445579.35500 4955409.04600
SECONDARY_NW_QUAD_XY: 445636.44100 4962134.72800
SECONDARY_NE_QUAD_XY: 450578.58500 4962094.83100
SECONDARY_SE_QUAD_XY: 450525.23700 4955152.19500
SECONDARY_SW_QUAD_XY: 445577.75800 4955192.09100
RMSE_XY: 4.20000
IMAGE_SOURCE: BLACK AND WHITE FILM
SOURCE_IMAGE_ID: NAPP 8374 155
SOURCE_IMAGE_DATE: 1995 08 12
SOURCE_DEM_DATE: 1976 08 00
AGENCY: WESTERN MAPPING CENTER (WMC)
PRODUCER: UNDEFINED
PRODUCTION_SYSTEM: GIS/MAGIC
COMPRESSION: UNDEFINED
STANDARD_VERSION: 1996 12
METADATA_DATE: 1999 03 01
DATA_FILE_SIZE: 43048460
BYTE_COUNT: 5668
