FILENAME: O4411112.SES.979536.tif
QUADRANGLE_NAME: CLIFF LAKE
QUADRANT: SE
WEST_LONGITUDE: -111 33 45.00000
EAST_LONGITUDE: -111 30 0.00000
NORTH_LATITUDE: 44 48 45.00000
SOUTH_LATITUDE: 44 45 0.00000
PRODUCTION_DATE: 1999 3 8
RASTER_ORDER: LEFT_RIGHT/TOP_BOTTOM
BAND_ORGANIZATION: SINGLE FILE
BAND_CONTENT: BLACK&WHITE
BAND_CONTENT: UNDEFINED
BAND_CONTENT: UNDEFINED
BITS_PER_PIXEL: 8
SAMPLES_AND_LINES: 5657 7586
HORIZONTAL_DATUM: NAD83
HORIZONTAL_COORDINATE_SYSTEM: UTM
COORDINATE_ZONE: 12
HORIZONTAL_UNITS: METERS
HORIZONTAL_RESOLUTION: 1.00000
SECONDARY_HORIZONTAL_DATUM: NAD27
XY_ORIGIN: 455109.00000 4962576.00000
SECONDARY_XY_ORIGIN: 455170.76900 4962367.09500
NATION: US
NATION: "SCIENCE
STATE: MT
NW_QUAD_CORNER_XY: 455522.03500 4962275.74900
NE_QUAD_CORNER_XY: 460464.03200 4962243.45300
SE_QUAD_CORNERY_XY: 460421.35400 4955300.76000
SW_QUAD_CORNER_XY: 455474.02200 4955333.05600
SECONDARY_NW_QUAD_XY: 455520.72800 4962058.73400
SECONDARY_NE_QUAD_XY: 460462.87000 4962026.43700
SECONDARY_SE_QUAD_XY: 460420.19200 4955083.80200
SECONDARY_SW_QUAD_XY: 455472.71500 4955116.09800
RMSE_XY: 2.00000
IMAGE_SOURCE: BLACK AND WHITE FILM
SOURCE_IMAGE_ID: NAPP 8374 119
SOURCE_IMAGE_DATE: 1995 08 12
SOURCE_DEM_DATE: 1992 00 00
AGENCY: WESTERN MAPPING CENTER (WMC)
PRODUCER: UNDEFINED
PRODUCTION_SYSTEM: GIS/MAGIC
COMPRESSION: UNDEFINED
STANDARD_VERSION: 1996 12
METADATA_DATE: 1999 03 26
DATA_FILE_SIZE: 42919659
BYTE_COUNT: 5657
