FILENAME: O4411112.NWS.979533.tif
QUADRANGLE_NAME: CLIFF LAKE
QUADRANT: NW
WEST_LONGITUDE: -111 37 30.00000
EAST_LONGITUDE: -111 33 45.00000
NORTH_LATITUDE: 44 52 30.00000
SOUTH_LATITUDE: 44 48 45.00000
PRODUCTION_DATE: 1999 3 8
RASTER_ORDER: LEFT_RIGHT/TOP_BOTTOM
BAND_ORGANIZATION: SINGLE FILE
BAND_CONTENT: BLACK&WHITE
BAND_CONTENT: UNDEFINED
BAND_CONTENT: UNDEFINED
BITS_PER_PIXEL: 8
SAMPLES_AND_LINES: 5657 7590
HORIZONTAL_DATUM: NAD83
HORIZONTAL_COORDINATE_SYSTEM: UTM
COORDINATE_ZONE: 12
HORIZONTAL_UNITS: METERS
HORIZONTAL_RESOLUTION: 1.00000
SECONDARY_HORIZONTAL_DATUM: NAD27
XY_ORIGIN: 450215.00000 4969555.00000
SECONDARY_XY_ORIGIN: 450276.78500 4969345.92600
NATION: US
NATION: "SCIENCE
STATE: MT
NW_QUAD_CORNER_XY: 450633.44500 4969254.61500
NE_QUAD_CORNER_XY: 455570.10200 4969218.51900
SE_QUAD_CORNERY_XY: 455522.03500 4962275.74900
SW_QUAD_CORNER_XY: 450580.03700 4962311.84500
SECONDARY_NW_QUAD_XY: 450631.99200 4969037.54300
SECONDARY_NE_QUAD_XY: 455568.79400 4969001.44500
SECONDARY_SE_QUAD_XY: 455520.72800 4962058.73400
SECONDARY_SW_QUAD_XY: 450578.58500 4962094.83100
RMSE_XY: 1.50000
IMAGE_SOURCE: BLACK AND WHITE FILM
SOURCE_IMAGE_ID: NAPP 8376 121
SOURCE_IMAGE_DATE: 1995 08 15
SOURCE_IMAGE_ID: NAPP 8374 152
SOURCE_IMAGE_DATE: 1995 08 12
SOURCE_IMAGE_ID: NAPP 8376 122
SOURCE_IMAGE_DATE: 1995 08 15
SOURCE_IMAGE_ID: NAPP 8376 120
SOURCE_IMAGE_DATE: 1995 08 15
SOURCE_DEM_DATE: 1992 00 00
AGENCY: WESTERN MAPPING CENTER (WMC)
PRODUCER: UNDEFINED
PRODUCTION_SYSTEM: GIS/MAGIC
COMPRESSION: UNDEFINED
STANDARD_VERSION: 1996 12
METADATA_DATE: 1999 03 26
DATA_FILE_SIZE: 42942287
BYTE_COUNT: 5657
