FILENAME: O4411113.SWS.980265.tif
QUADRANGLE_NAME: EARTHQUAKE LAKE
QUADRANT: SW
WEST_LONGITUDE: -111 30 0.00000
EAST_LONGITUDE: -111 26 15.00000
NORTH_LATITUDE: 44 48 45.00000
SOUTH_LATITUDE: 44 45 0.00000
PRODUCTION_DATE: 1999 3 8
RASTER_ORDER: LEFT_RIGHT/TOP_BOTTOM
BAND_ORGANIZATION: SINGLE FILE
BAND_CONTENT: BLACK&WHITE
BAND_CONTENT: UNDEFINED
BAND_CONTENT: UNDEFINED
BITS_PER_PIXEL: 8
SAMPLES_AND_LINES: 5651 7582
HORIZONTAL_DATUM: NAD83
HORIZONTAL_COORDINATE_SYSTEM: UTM
COORDINATE_ZONE: 12
HORIZONTAL_UNITS: METERS
HORIZONTAL_RESOLUTION: 1.00000
SECONDARY_HORIZONTAL_DATUM: NAD27
XY_ORIGIN: 460057.00000 4962544.00000
SECONDARY_XY_ORIGIN: 460118.73500 4962335.05200
NATION: US
NATION: "SCIENCE
STATE: MT
NW_QUAD_CORNER_XY: 460464.03200 4962243.45300
NE_QUAD_CORNER_XY: 465406.02900 4962214.95700
SE_QUAD_CORNERY_XY: 465368.68600 4955272.26400
SW_QUAD_CORNER_XY: 460421.35400 4955300.76000
SECONDARY_NW_QUAD_XY: 460462.87000 4962026.43700
SECONDARY_NE_QUAD_XY: 465405.01200 4961997.93900
SECONDARY_SE_QUAD_XY: 465367.66900 4955055.30500
SECONDARY_SW_QUAD_XY: 460420.19200 4955083.80200
RMSE_XY: 2.80000
IMAGE_SOURCE: BLACK AND WHITE FILM
SOURCE_IMAGE_ID: NAPP 8374 072
SOURCE_IMAGE_DATE: 1995 08 12
SOURCE_IMAGE_ID: NAPP 8374 119
SOURCE_IMAGE_DATE: 1995 08 12
SOURCE_DEM_DATE: 1980 09 00
AGENCY: WESTERN MAPPING CENTER (WMC)
PRODUCER: UNDEFINED
PRODUCTION_SYSTEM: GIS/MAGIC
COMPRESSION: UNDEFINED
STANDARD_VERSION: 1996 12
METADATA_DATE: 1999 03 26
DATA_FILE_SIZE: 42851533
BYTE_COUNT: 5651
