FILENAME: O4411113.SES.980256.tif
QUADRANGLE_NAME: EARTHQUAKE LAKE
QUADRANT: SE
WEST_LONGITUDE: -111 26 15.00000
EAST_LONGITUDE: -111 22 30.00000
NORTH_LATITUDE: 44 48 45.00000
SOUTH_LATITUDE: 44 45 0.00000
PRODUCTION_DATE: 1999 3 8
RASTER_ORDER: LEFT_RIGHT/TOP_BOTTOM
BAND_ORGANIZATION: SINGLE FILE
BAND_CONTENT: BLACK&WHITE
BAND_CONTENT: UNDEFINED
BAND_CONTENT: UNDEFINED
BITS_PER_PIXEL: 8
SAMPLES_AND_LINES: 5646 7578
HORIZONTAL_DATUM: NAD83
HORIZONTAL_COORDINATE_SYSTEM: UTM
COORDINATE_ZONE: 12
HORIZONTAL_UNITS: METERS
HORIZONTAL_RESOLUTION: 1.00000
SECONDARY_HORIZONTAL_DATUM: NAD27
XY_ORIGIN: 465004.00000 4962515.00000
SECONDARY_XY_ORIGIN: 465065.65700 4962306.03900
NATION: US
NATION: "SCIENCE
STATE: MT
STATE: ID
NW_QUAD_CORNER_XY: 465406.02900 4962214.95700
NE_QUAD_CORNER_XY: 470348.02600 4962190.26000
SE_QUAD_CORNERY_XY: 470316.01700 4955247.56800
SW_QUAD_CORNER_XY: 465368.68600 4955272.26400
SECONDARY_NW_QUAD_XY: 465405.01200 4961997.93900
SECONDARY_NE_QUAD_XY: 470347.15400 4961973.24200
SECONDARY_SE_QUAD_XY: 470315.14600 4955030.60800
SECONDARY_SW_QUAD_XY: 465367.66900 4955055.30500
RMSE_XY: 2.30000
IMAGE_SOURCE: BLACK AND WHITE FILM
SOURCE_IMAGE_ID: NAPP 8374 053
SOURCE_IMAGE_DATE: 1995 08 12
SOURCE_IMAGE_ID: NAPP 8374 054
SOURCE_IMAGE_DATE: 1995 08 12
SOURCE_IMAGE_ID: NAPP 8374 052
SOURCE_IMAGE_DATE: 1995 08 12
SOURCE_DEM_DATE: 1980 09 00
AGENCY: WESTERN MAPPING CENTER (WMC)
PRODUCER: UNDEFINED
PRODUCTION_SYSTEM: GIS/MAGIC
COMPRESSION: UNDEFINED
STANDARD_VERSION: 1996 12
METADATA_DATE: 1999 03 26
DATA_FILE_SIZE: 42791034
BYTE_COUNT: 5646
