FILENAME: O4411114.NWS.830109.tif
QUADRANGLE_NAME: HEBGEN DAM
QUADRANT: NW
WEST_LONGITUDE: -111 22 30.00000
EAST_LONGITUDE: -111 18 45.00000
NORTH_LATITUDE: 44 52 30.00000
SOUTH_LATITUDE: 44 48 45.00000
PRODUCTION_DATE: 1997 11 4
RASTER_ORDER: LEFT_RIGHT/TOP_BOTTOM
BAND_ORGANIZATION: SINGLE FILE
BAND_CONTENT: BLACK&WHITE
BAND_CONTENT: UNDEFINED
BAND_CONTENT: UNDEFINED
BITS_PER_PIXEL: 8
SAMPLES_AND_LINES: 5634 7575
HORIZONTAL_DATUM: NAD83
HORIZONTAL_COORDINATE_SYSTEM: UTM
COORDINATE_ZONE: 12
HORIZONTAL_UNITS: METERS
HORIZONTAL_RESOLUTION: 1.00000
SECONDARY_HORIZONTAL_DATUM: NAD27
XY_ORIGIN: 469984.00000 4969434.00000
SECONDARY_XY_ORIGIN: 470045.55100 4969224.87000
NATION: US
NATION: "SCIENCE
STATE: MT
NW_QUAD_CORNER_XY: 470380.06900 4969133.02800
NE_QUAD_CORNER_XY: 475316.72500 4969112.13100
SE_QUAD_CORNERY_XY: 475290.02200 4962169.36300
SW_QUAD_CORNER_XY: 470348.02600 4962190.26000
SECONDARY_NW_QUAD_XY: 470379.19800 4968915.95200
SECONDARY_NE_QUAD_XY: 475315.99800 4968895.05400
SECONDARY_SE_QUAD_XY: 475289.29500 4961952.34400
SECONDARY_SW_QUAD_XY: 470347.15400 4961973.24200
RMSE_XY: 1.40000
IMAGE_SOURCE: BLACK AND WHITE FILM
SOURCE_IMAGE_ID: NAPP 8374 008
SOURCE_IMAGE_DATE: 1995 08 12
SOURCE_IMAGE_ID: NAPP 8374 007
SOURCE_IMAGE_DATE: 1995 08 12
SOURCE_IMAGE_ID: NAPP 8374 009
SOURCE_IMAGE_DATE: 1995 08 12
SOURCE_DEM_DATE: 1980 07 00
AGENCY: WESTERN MAPPING CENTER (WMC)
PRODUCER: UNDEFINED
PRODUCTION_SYSTEM: GIS/MAGIC
COMPRESSION: UNDEFINED
STANDARD_VERSION: 1996 12
METADATA_DATE: 1997 11 13
DATA_FILE_SIZE: 42683184
BYTE_COUNT: 5634
