FILENAME: O4411116.NWS.830061.tif
QUADRANGLE_NAME: RICHARDS CREEK
QUADRANT: NW
WEST_LONGITUDE: -111 7 30.00000
EAST_LONGITUDE: -111 3 45.00000
NORTH_LATITUDE: 44 52 30.00000
SOUTH_LATITUDE: 44 48 45.00000
PRODUCTION_DATE: 1997 11 4
RASTER_ORDER: LEFT_RIGHT/TOP_BOTTOM
BAND_ORGANIZATION: SINGLE FILE
BAND_CONTENT: BLACK&WHITE
BAND_CONTENT: UNDEFINED
BAND_CONTENT: UNDEFINED
BITS_PER_PIXEL: 8
SAMPLES_AND_LINES: 5612 7560
HORIZONTAL_DATUM: NAD83
HORIZONTAL_COORDINATE_SYSTEM: UTM
COORDINATE_ZONE: 12
HORIZONTAL_UNITS: METERS
HORIZONTAL_RESOLUTION: 1.00000
SECONDARY_HORIZONTAL_DATUM: NAD27
XY_ORIGIN: 489753.00000 4969373.00000
SECONDARY_XY_ORIGIN: 489814.28600 4969163.79100
NATION: US
NATION: "SCIENCE
STATE: MT
NW_QUAD_CORNER_XY: 490126.69000 4969072.23600
NE_QUAD_CORNER_XY: 495063.34500 4969066.53700
SE_QUAD_CORNERY_XY: 495058.00500 4962123.77000
SW_QUAD_CORNER_XY: 490116.00900 4962129.46900
SECONDARY_NW_QUAD_XY: 490126.40000 4968855.15800
SECONDARY_NE_QUAD_XY: 495063.20000 4968849.45900
SECONDARY_SE_QUAD_XY: 495057.85900 4961906.74900
SECONDARY_SW_QUAD_XY: 490115.71900 4961912.44900
RMSE_XY: 2.10000
IMAGE_SOURCE: BLACK AND WHITE FILM
SOURCE_IMAGE_ID: NAPP 7817 072
SOURCE_IMAGE_DATE: 1994 06 27
SOURCE_DEM_DATE: 1997 01 01
AGENCY: WESTERN MAPPING CENTER (WMC)
PRODUCER: UNDEFINED
PRODUCTION_SYSTEM: GIS/MAGIC
COMPRESSION: UNDEFINED
STANDARD_VERSION: 1996 12
METADATA_DATE: 1997 11 13
DATA_FILE_SIZE: 42432332
BYTE_COUNT: 5612
