FILENAME: O4411117.SWS.1077814.tif
QUADRANGLE_NAME: METZEL CREEK
QUADRANT: SW
WEST_LONGITUDE: -112 0 0.00000
EAST_LONGITUDE: -111 56 15.00000
NORTH_LATITUDE: 44 41 15.00000
SOUTH_LATITUDE: 44 37 30.00000
PRODUCTION_DATE: 2000 3 17
RASTER_ORDER: LEFT_RIGHT/TOP_BOTTOM
BAND_ORGANIZATION: SINGLE FILE
BAND_CONTENT: BLACK&WHITE
BAND_CONTENT: UNDEFINED
BAND_CONTENT: UNDEFINED
BITS_PER_PIXEL: 8
SAMPLES_AND_LINES: 5706 7613
HORIZONTAL_DATUM: NAD83
HORIZONTAL_COORDINATE_SYSTEM: UTM
COORDINATE_ZONE: 12
HORIZONTAL_UNITS: METERS
HORIZONTAL_RESOLUTION: 1.00000
SECONDARY_HORIZONTAL_DATUM: NAD27
XY_ORIGIN: 420306.00000 4949023.00000
SECONDARY_XY_ORIGIN: 420368.43500 4948814.93300
NATION: US
NATION: "SCIENCE
STATE: MT
NW_QUAD_CORNER_XY: 420757.40800 4948722.89500
NE_QUAD_CORNER_XY: 425710.07600 4948664.00100
SE_QUAD_CORNERY_XY: 425630.22700 4941721.45000
SW_QUAD_CORNER_XY: 420672.23500 4941780.34300
SECONDARY_NW_QUAD_XY: 420755.08600 4948506.00700
SECONDARY_NE_QUAD_XY: 425707.89800 4948447.11100
SECONDARY_SE_QUAD_XY: 425628.05000 4941504.62100
SECONDARY_SW_QUAD_XY: 420669.91300 4941563.51500
RMSE_XY: 1.60000
IMAGE_SOURCE: BLACK AND WHITE FILM
SOURCE_IMAGE_ID: NAPP 8376 138
SOURCE_IMAGE_DATE: 1995 08 15
SOURCE_IMAGE_ID: NAPP 9485 242
SOURCE_IMAGE_DATE: 1995 08 20
SOURCE_IMAGE_ID: NAPP 8376 136
SOURCE_IMAGE_DATE: 1995 08 15
SOURCE_IMAGE_ID: NAPP 8376 139
SOURCE_IMAGE_DATE: 1995 08 15
SOURCE_IMAGE_ID: NAPP 8376 205
SOURCE_IMAGE_DATE: 1995 08 15
SOURCE_DEM_DATE: 2000 01 01
AGENCY: WESTERN MAPPING CENTER (WMC)
PRODUCER: UNDEFINED
PRODUCTION_SYSTEM: GIS/MAGIC
COMPRESSION: UNDEFINED
STANDARD_VERSION: 1996 12
METADATA_DATE: 2000 05 26
DATA_FILE_SIZE: 43445484
BYTE_COUNT: 5706
