FILENAME: O4411117.SES.1077812.tif
QUADRANGLE_NAME: METZEL CREEK
QUADRANT: SE
WEST_LONGITUDE: -111 56 15.00000
EAST_LONGITUDE: -111 52 30.00000
NORTH_LATITUDE: 44 41 15.00000
SOUTH_LATITUDE: 44 37 30.00000
PRODUCTION_DATE: 2000 3 17
RASTER_ORDER: LEFT_RIGHT/TOP_BOTTOM
BAND_ORGANIZATION: SINGLE FILE
BAND_CONTENT: BLACK&WHITE
BAND_CONTENT: UNDEFINED
BAND_CONTENT: UNDEFINED
BITS_PER_PIXEL: 8
SAMPLES_AND_LINES: 5700 7610
HORIZONTAL_DATUM: NAD83
HORIZONTAL_COORDINATE_SYSTEM: UTM
COORDINATE_ZONE: 12
HORIZONTAL_UNITS: METERS
HORIZONTAL_RESOLUTION: 1.00000
SECONDARY_HORIZONTAL_DATUM: NAD27
XY_ORIGIN: 425264.00000 4948965.00000
SECONDARY_XY_ORIGIN: 425326.28800 4948756.85000
NATION: US
NATION: "SCIENCE
STATE: MT
NW_QUAD_CORNER_XY: 425710.07600 4948664.00100
NE_QUAD_CORNER_XY: 430662.74200 4948608.90700
SE_QUAD_CORNERY_XY: 430588.21700 4941666.35800
SW_QUAD_CORNER_XY: 425630.22700 4941721.45000
SECONDARY_NW_QUAD_XY: 425707.89800 4948447.11100
SECONDARY_NE_QUAD_XY: 430660.71000 4948392.01600
SECONDARY_SE_QUAD_XY: 430586.18600 4941449.52700
SECONDARY_SW_QUAD_XY: 425628.05000 4941504.62100
RMSE_XY: 0.90000
IMAGE_SOURCE: BLACK AND WHITE FILM
SOURCE_IMAGE_ID: NAPP 8376 205
SOURCE_IMAGE_DATE: 1995 08 15
SOURCE_IMAGE_ID: NAPP 8376 138
SOURCE_IMAGE_DATE: 1995 08 15
SOURCE_IMAGE_ID: NAPP 8376 203
SOURCE_IMAGE_DATE: 1995 08 15
SOURCE_DEM_DATE: 2000 01 01
AGENCY: WESTERN MAPPING CENTER (WMC)
PRODUCER: UNDEFINED
PRODUCTION_SYSTEM: GIS/MAGIC
COMPRESSION: UNDEFINED
STANDARD_VERSION: 1996 12
METADATA_DATE: 2000 05 26
DATA_FILE_SIZE: 43382700
BYTE_COUNT: 5700
