FILENAME: O4411117.NES.1077808.tif
QUADRANGLE_NAME: METZEL CREEK
QUADRANT: NE
WEST_LONGITUDE: -111 56 15.00000
EAST_LONGITUDE: -111 52 30.00000
NORTH_LATITUDE: 44 45 0.00000
SOUTH_LATITUDE: 44 41 15.00000
PRODUCTION_DATE: 2000 3 17
RASTER_ORDER: LEFT_RIGHT/TOP_BOTTOM
BAND_ORGANIZATION: SINGLE FILE
BAND_CONTENT: BLACK&WHITE
BAND_CONTENT: UNDEFINED
BAND_CONTENT: UNDEFINED
BITS_PER_PIXEL: 8
SAMPLES_AND_LINES: 5695 7609
HORIZONTAL_DATUM: NAD83
HORIZONTAL_COORDINATE_SYSTEM: UTM
COORDINATE_ZONE: 12
HORIZONTAL_UNITS: METERS
HORIZONTAL_RESOLUTION: 1.00000
SECONDARY_HORIZONTAL_DATUM: NAD27
XY_ORIGIN: 425344.00000 4955907.00000
SECONDARY_XY_ORIGIN: 425406.26300 4955698.78000
NATION: US
NATION: "SCIENCE
STATE: MT
NW_QUAD_CORNER_XY: 425790.01400 4955606.62600
NE_QUAD_CORNER_XY: 430737.35100 4955551.53100
SE_QUAD_CORNERY_XY: 430662.74200 4948608.90700
SW_QUAD_CORNER_XY: 425710.07600 4948664.00100
SECONDARY_NW_QUAD_XY: 425787.83600 4955389.67700
SECONDARY_NE_QUAD_XY: 430735.31800 4955334.58000
SECONDARY_SE_QUAD_XY: 430660.71000 4948392.01600
SECONDARY_SW_QUAD_XY: 425707.89800 4948447.11100
RMSE_XY: 2.30000
IMAGE_SOURCE: BLACK AND WHITE FILM
SOURCE_IMAGE_ID: NAPP 8376 203
SOURCE_IMAGE_DATE: 1995 08 15
SOURCE_IMAGE_ID: NAPP 8376 140
SOURCE_IMAGE_DATE: 1995 08 15
SOURCE_DEM_DATE: 2000 01 01
AGENCY: WESTERN MAPPING CENTER (WMC)
PRODUCER: UNDEFINED
PRODUCTION_SYSTEM: GIS/MAGIC
COMPRESSION: UNDEFINED
STANDARD_VERSION: 1996 12
METADATA_DATE: 2000 05 26
DATA_FILE_SIZE: 43338950
BYTE_COUNT: 5695
