FILENAME: O4411120.NWS.1077977.tif
QUADRANGLE_NAME: HIDDEN LAKE BENCH
QUADRANT: NW
WEST_LONGITUDE: -111 37 30.00000
EAST_LONGITUDE: -111 33 45.00000
NORTH_LATITUDE: 44 45 0.00000
SOUTH_LATITUDE: 44 41 15.00000
PRODUCTION_DATE: 2000 3 24
RASTER_ORDER: LEFT_RIGHT/TOP_BOTTOM
BAND_ORGANIZATION: SINGLE FILE
BAND_CONTENT: BLACK&WHITE
BAND_CONTENT: UNDEFINED
BAND_CONTENT: UNDEFINED
BITS_PER_PIXEL: 8
SAMPLES_AND_LINES: 5667 7590
HORIZONTAL_DATUM: NAD83
HORIZONTAL_COORDINATE_SYSTEM: UTM
COORDINATE_ZONE: 12
HORIZONTAL_UNITS: METERS
HORIZONTAL_RESOLUTION: 1.00000
SECONDARY_HORIZONTAL_DATUM: NAD27
XY_ORIGIN: 450109.00000 4955670.00000
SECONDARY_XY_ORIGIN: 450170.82700 4955461.34400
NATION: US
NATION: "SCIENCE
STATE: MT
NW_QUAD_CORNER_XY: 450526.68900 4955369.15100
NE_QUAD_CORNER_XY: 455474.02200 4955333.05600
SE_QUAD_CORNERY_XY: 455426.06200 4948390.43700
SW_QUAD_CORNER_XY: 450473.39900 4948426.53200
SECONDARY_NW_QUAD_XY: 450525.23700 4955152.19500
SECONDARY_NE_QUAD_XY: 455472.71500 4955116.09800
SECONDARY_SE_QUAD_XY: 455424.75500 4948173.53900
SECONDARY_SW_QUAD_XY: 450471.94800 4948209.63500
RMSE_XY: 1.80000
IMAGE_SOURCE: BLACK AND WHITE FILM
SOURCE_IMAGE_ID: NAPP 8374 120
SOURCE_IMAGE_DATE: 1995 08 12
SOURCE_IMAGE_ID: NAPP 8376 127
SOURCE_IMAGE_DATE: 1995 08 15
SOURCE_IMAGE_ID: NAPP 8376 126
SOURCE_IMAGE_DATE: 1995 08 15
SOURCE_IMAGE_ID: NAPP 8376 124
SOURCE_IMAGE_DATE: 1995 08 15
SOURCE_IMAGE_ID: NAPP 8374 121
SOURCE_IMAGE_DATE: 1995 08 12
SOURCE_DEM_DATE: 1991 00 00
AGENCY: WESTERN MAPPING CENTER (WMC)
PRODUCER: UNDEFINED
PRODUCTION_SYSTEM: GIS/MAGIC
COMPRESSION: UNDEFINED
STANDARD_VERSION: 1996 12
METADATA_DATE: 2000 05 26
DATA_FILE_SIZE: 43018197
BYTE_COUNT: 5667
