FILENAME: O4411121.NWS.979880.tif
QUADRANGLE_NAME: TARGHEE PEAK
QUADRANT: NW
WEST_LONGITUDE: -111 30 0.00000
EAST_LONGITUDE: -111 26 15.00000
NORTH_LATITUDE: 44 45 0.00000
SOUTH_LATITUDE: 44 41 15.00000
PRODUCTION_DATE: 1999 3 8
RASTER_ORDER: LEFT_RIGHT/TOP_BOTTOM
BAND_ORGANIZATION: SINGLE FILE
BAND_CONTENT: BLACK&WHITE
BAND_CONTENT: UNDEFINED
BAND_CONTENT: UNDEFINED
BITS_PER_PIXEL: 8
SAMPLES_AND_LINES: 5656 7582
HORIZONTAL_DATUM: NAD83
HORIZONTAL_COORDINATE_SYSTEM: UTM
COORDINATE_ZONE: 12
HORIZONTAL_UNITS: METERS
HORIZONTAL_RESOLUTION: 1.00000
SECONDARY_HORIZONTAL_DATUM: NAD27
XY_ORIGIN: 460014.00000 4955601.00000
SECONDARY_XY_ORIGIN: 460075.76900 4955392.23600
NATION: US
NATION: "SCIENCE
STATE: MT
STATE: ID
NW_QUAD_CORNER_XY: 460421.35400 4955300.76000
NE_QUAD_CORNER_XY: 465368.68600 4955272.26400
SE_QUAD_CORNERY_XY: 465331.38400 4948329.64800
SW_QUAD_CORNER_XY: 460378.72300 4948358.14300
SECONDARY_NW_QUAD_XY: 460420.19200 4955083.80200
SECONDARY_NE_QUAD_XY: 465367.66900 4955055.30500
SECONDARY_SE_QUAD_XY: 465330.36800 4948112.74800
SECONDARY_SW_QUAD_XY: 460377.56200 4948141.24400
RMSE_XY: 3.50000
IMAGE_SOURCE: BLACK AND WHITE FILM
SOURCE_IMAGE_ID: NAPP 8374 070
SOURCE_IMAGE_DATE: 1995 08 12
SOURCE_IMAGE_ID: NAPP 8374 069
SOURCE_IMAGE_DATE: 1995 08 12
SOURCE_IMAGE_ID: NAPP 8374 071
SOURCE_IMAGE_DATE: 1995 08 12
SOURCE_DEM_DATE: 1964 00 00
AGENCY: WESTERN MAPPING CENTER (WMC)
PRODUCER: UNDEFINED
PRODUCTION_SYSTEM: GIS/MAGIC
COMPRESSION: UNDEFINED
STANDARD_VERSION: 1996 12
METADATA_DATE: 1999 03 26
DATA_FILE_SIZE: 42889448
BYTE_COUNT: 5656
