FILENAME: O4411123.NES.831817.tif
QUADRANGLE_NAME: MADISON ARM
QUADRANT: NE
WEST_LONGITUDE: -111 11 15.00000
EAST_LONGITUDE: -111 7 30.00000
NORTH_LATITUDE: 44 45 0.00000
SOUTH_LATITUDE: 44 41 15.00000
PRODUCTION_DATE: 1997 11 24
RASTER_ORDER: LEFT_RIGHT/TOP_BOTTOM
BAND_ORGANIZATION: SINGLE FILE
BAND_CONTENT: BLACK&WHITE
BAND_CONTENT: UNDEFINED
BAND_CONTENT: UNDEFINED
BITS_PER_PIXEL: 8
SAMPLES_AND_LINES: 5628 7563
HORIZONTAL_DATUM: NAD83
HORIZONTAL_COORDINATE_SYSTEM: UTM
COORDINATE_ZONE: 12
HORIZONTAL_UNITS: METERS
HORIZONTAL_RESOLUTION: 1.00000
SECONDARY_HORIZONTAL_DATUM: NAD27
XY_ORIGIN: 484779.00000 4955497.00000
SECONDARY_XY_ORIGIN: 484840.37000 4955288.06200
NATION: US
NATION: "SCIENCE
STATE: MT
NW_QUAD_CORNER_XY: 485158.00900 4955196.27600
NE_QUAD_CORNER_XY: 490105.34000 4955186.77800
SE_QUAD_CORNERY_XY: 490094.68200 4948244.16300
SW_QUAD_CORNER_XY: 485142.02300 4948253.66100
SECONDARY_NW_QUAD_XY: 485157.57400 4954979.31500
SECONDARY_NE_QUAD_XY: 490105.04900 4954969.81600
SECONDARY_SE_QUAD_XY: 490094.39200 4948027.26100
SECONDARY_SW_QUAD_XY: 485141.58800 4948036.76000
RMSE_XY: 1.10000
IMAGE_SOURCE: BLACK AND WHITE FILM
SOURCE_IMAGE_ID: NAPP 8375 141
SOURCE_IMAGE_DATE: 1995 08 12
SOURCE_DEM_DATE: 1977 00 00
AGENCY: WESTERN MAPPING CENTER (WMC)
PRODUCER: UNDEFINED
PRODUCTION_SYSTEM: GIS/MAGIC
COMPRESSION: UNDEFINED
STANDARD_VERSION: 1996 12
METADATA_DATE: 1997 12 17
DATA_FILE_SIZE: 42570192
BYTE_COUNT: 5628
