FILENAME: O4411124.SWS.831868.tif
QUADRANGLE_NAME: WEST YELLOWSTONE
QUADRANT: SW
WEST_LONGITUDE: -111 7 30.00000
EAST_LONGITUDE: -111 3 45.00000
NORTH_LATITUDE: 44 41 15.00000
SOUTH_LATITUDE: 44 37 30.00000
PRODUCTION_DATE: 1997 11 24
RASTER_ORDER: LEFT_RIGHT/TOP_BOTTOM
BAND_ORGANIZATION: SINGLE FILE
BAND_CONTENT: BLACK&WHITE
BAND_CONTENT: UNDEFINED
BAND_CONTENT: UNDEFINED
BITS_PER_PIXEL: 8
SAMPLES_AND_LINES: 5628 7560
HORIZONTAL_DATUM: NAD83
HORIZONTAL_COORDINATE_SYSTEM: UTM
COORDINATE_ZONE: 12
HORIZONTAL_UNITS: METERS
HORIZONTAL_RESOLUTION: 1.00000
SECONDARY_HORIZONTAL_DATUM: NAD27
XY_ORIGIN: 489721.00000 4948545.00000
SECONDARY_XY_ORIGIN: 489782.31100 4948336.11600
NATION: US
NATION: "SCIENCE
STATE: MT
NW_QUAD_CORNER_XY: 490094.68200 4948244.16300
NE_QUAD_CORNER_XY: 495047.34100 4948238.46400
SE_QUAD_CORNERY_XY: 495042.01800 4941295.92600
SW_QUAD_CORNER_XY: 490084.03700 4941301.62500
SECONDARY_NW_QUAD_XY: 490094.39200 4948027.26100
SECONDARY_NE_QUAD_XY: 495047.19600 4948021.56200
SECONDARY_SE_QUAD_XY: 495041.87300 4941079.08400
SECONDARY_SW_QUAD_XY: 490083.74600 4941084.78300
RMSE_XY: 1.30000
IMAGE_SOURCE: BLACK AND WHITE FILM
SOURCE_IMAGE_ID: NAPP 7817 066
SOURCE_IMAGE_DATE: 1994 06 27
SOURCE_IMAGE_ID: NAPP 7817 065
SOURCE_IMAGE_DATE: 1994 06 27
SOURCE_DEM_DATE: 1980 07 00
AGENCY: WESTERN MAPPING CENTER (WMC)
PRODUCER: UNDEFINED
PRODUCTION_SYSTEM: GIS/MAGIC
COMPRESSION: UNDEFINED
STANDARD_VERSION: 1996 12
METADATA_DATE: 1997 12 17
DATA_FILE_SIZE: 42553308
BYTE_COUNT: 5628
