FILENAME: O4411125.NWS.1077788.tif
QUADRANGLE_NAME: WINSLOW CREEK
QUADRANT: NW
WEST_LONGITUDE: -112 0 0.00000
EAST_LONGITUDE: -111 56 15.00000
NORTH_LATITUDE: 44 37 30.00000
SOUTH_LATITUDE: 44 33 45.00000
PRODUCTION_DATE: 2000 3 17
RASTER_ORDER: LEFT_RIGHT/TOP_BOTTOM
BAND_ORGANIZATION: SINGLE FILE
BAND_CONTENT: BLACK&WHITE
BAND_CONTENT: UNDEFINED
BAND_CONTENT: UNDEFINED
BITS_PER_PIXEL: 8
SAMPLES_AND_LINES: 5711 7613
HORIZONTAL_DATUM: NAD83
HORIZONTAL_COORDINATE_SYSTEM: UTM
COORDINATE_ZONE: 12
HORIZONTAL_UNITS: METERS
HORIZONTAL_RESOLUTION: 1.00000
SECONDARY_HORIZONTAL_DATUM: NAD27
XY_ORIGIN: 420221.00000 4942081.00000
SECONDARY_XY_ORIGIN: 420283.49500 4941872.97900
NATION: US
NATION: "SCIENCE
STATE: MT
NW_QUAD_CORNER_XY: 420672.23500 4941780.34300
NE_QUAD_CORNER_XY: 425630.22700 4941721.45000
SE_QUAD_CORNERY_XY: 425550.46700 4934778.97400
SW_QUAD_CORNER_XY: 420587.15600 4934837.86400
SECONDARY_NW_QUAD_XY: 420669.91300 4941563.51500
SECONDARY_NE_QUAD_XY: 425628.05000 4941504.62100
SECONDARY_SE_QUAD_XY: 425548.29100 4934562.20500
SECONDARY_SW_QUAD_XY: 420584.83500 4934621.09700
RMSE_XY: 1.50000
IMAGE_SOURCE: BLACK AND WHITE FILM
SOURCE_IMAGE_ID: NAPP 8376 136
SOURCE_IMAGE_DATE: 1995 08 15
SOURCE_IMAGE_ID: NAPP 9485 240
SOURCE_IMAGE_DATE: 1995 08 20
SOURCE_DEM_DATE: 1988 00 00
AGENCY: WESTERN MAPPING CENTER (WMC)
PRODUCER: UNDEFINED
PRODUCTION_SYSTEM: GIS/MAGIC
COMPRESSION: UNDEFINED
STANDARD_VERSION: 1996 12
METADATA_DATE: 2000 05 26
DATA_FILE_SIZE: 43483554
BYTE_COUNT: 5711
