FILENAME: O4411126.NWS.1077821.tif
QUADRANGLE_NAME: SLIDE MOUNTAIN
QUADRANT: NW
WEST_LONGITUDE: -111 52 30.00000
EAST_LONGITUDE: -111 48 45.00000
NORTH_LATITUDE: 44 37 30.00000
SOUTH_LATITUDE: 44 33 45.00000
PRODUCTION_DATE: 2000 3 20
RASTER_ORDER: LEFT_RIGHT/TOP_BOTTOM
BAND_ORGANIZATION: SINGLE FILE
BAND_CONTENT: BLACK&WHITE
BAND_CONTENT: UNDEFINED
BAND_CONTENT: UNDEFINED
BITS_PER_PIXEL: 8
SAMPLES_AND_LINES: 5700 7606
HORIZONTAL_DATUM: NAD83
HORIZONTAL_COORDINATE_SYSTEM: UTM
COORDINATE_ZONE: 12
HORIZONTAL_UNITS: METERS
HORIZONTAL_RESOLUTION: 1.00000
SECONDARY_HORIZONTAL_DATUM: NAD27
XY_ORIGIN: 430148.00000 4941967.00000
SECONDARY_XY_ORIGIN: 430210.13100 4941758.86300
NATION: US
NATION: "SCIENCE
STATE: MT
STATE: ID
NW_QUAD_CORNER_XY: 430588.21700 4941666.35800
NE_QUAD_CORNER_XY: 435546.20700 4941615.06600
SE_QUAD_CORNERY_XY: 435477.08300 4934672.59300
SW_QUAD_CORNER_XY: 430513.77600 4934723.88300
SECONDARY_NW_QUAD_XY: 430586.18600 4941449.52700
SECONDARY_NE_QUAD_XY: 435544.32100 4941398.23300
SECONDARY_SE_QUAD_XY: 435475.19700 4934455.82100
SECONDARY_SW_QUAD_XY: 430511.74500 4934507.11300
RMSE_XY: 2.80000
IMAGE_SOURCE: BLACK AND WHITE FILM
SOURCE_IMAGE_ID: NAPP 8376 214
SOURCE_IMAGE_DATE: 1995 08 15
SOURCE_IMAGE_ID: NAPP 8376 213
SOURCE_IMAGE_DATE: 1995 08 15
SOURCE_IMAGE_ID: NAPP 8376 216
SOURCE_IMAGE_DATE: 1995 08 15
SOURCE_DEM_DATE: 2000 01 01
AGENCY: WESTERN MAPPING CENTER (WMC)
PRODUCER: UNDEFINED
PRODUCTION_SYSTEM: GIS/MAGIC
COMPRESSION: UNDEFINED
STANDARD_VERSION: 1996 12
METADATA_DATE: 2000 05 26
DATA_FILE_SIZE: 43359900
BYTE_COUNT: 5700
