FILENAME: O4411127.NWS.1077937.tif
QUADRANGLE_NAME: UPPER RED ROCK LAKE
QUADRANT: NW
WEST_LONGITUDE: -111 45 0.00000
EAST_LONGITUDE: -111 41 15.00000
NORTH_LATITUDE: 44 37 30.00000
SOUTH_LATITUDE: 44 33 45.00000
PRODUCTION_DATE: 2000 5 2
RASTER_ORDER: LEFT_RIGHT/TOP_BOTTOM
BAND_ORGANIZATION: SINGLE FILE
BAND_CONTENT: BLACK&WHITE
BAND_CONTENT: UNDEFINED
BAND_CONTENT: UNDEFINED
BITS_PER_PIXEL: 8
SAMPLES_AND_LINES: 5689 7598
HORIZONTAL_DATUM: NAD83
HORIZONTAL_COORDINATE_SYSTEM: UTM
COORDINATE_ZONE: 12
HORIZONTAL_UNITS: METERS
HORIZONTAL_RESOLUTION: 1.00000
SECONDARY_HORIZONTAL_DATUM: NAD27
XY_ORIGIN: 440075.00000 4941868.00000
SECONDARY_XY_ORIGIN: 440136.73300 4941659.75000
NATION: US
NATION: "SCIENCE
STATE: MT
NW_QUAD_CORNER_XY: 440504.19500 4941567.57300
NE_QUAD_CORNER_XY: 445462.18300 4941523.88100
SE_QUAD_CORNERY_XY: 445403.69500 4934581.41100
SW_QUAD_CORNER_XY: 440440.38900 4934625.10200
SECONDARY_NW_QUAD_XY: 440502.45400 4941350.73900
SECONDARY_NE_QUAD_XY: 445460.58700 4941307.04500
SECONDARY_SE_QUAD_XY: 445402.09900 4934364.63700
SECONDARY_SW_QUAD_XY: 440438.64900 4934408.32900
RMSE_XY: 1.10000
IMAGE_SOURCE: BLACK AND WHITE FILM
SOURCE_IMAGE_ID: NAPP 8374 162
SOURCE_IMAGE_DATE: 1995 08 12
SOURCE_IMAGE_ID: NAPP 8374 167
SOURCE_IMAGE_DATE: 1995 08 12
SOURCE_IMAGE_ID: NAPP 8374 168
SOURCE_IMAGE_DATE: 1995 08 12
SOURCE_IMAGE_ID: NAPP 8374 131
SOURCE_IMAGE_DATE: 1995 08 12
SOURCE_IMAGE_ID: NAPP 8374 133
SOURCE_IMAGE_DATE: 1995 08 12
SOURCE_DEM_DATE: 1982 00 00
AGENCY: WESTERN MAPPING CENTER (WMC)
PRODUCER: UNDEFINED
PRODUCTION_SYSTEM: GIS/MAGIC
COMPRESSION: UNDEFINED
STANDARD_VERSION: 1996 12
METADATA_DATE: 2000 05 26
DATA_FILE_SIZE: 43230711
BYTE_COUNT: 5689
