FILENAME: O4411127.NES.1077936.tif
QUADRANGLE_NAME: UPPER RED ROCK LAKE
QUADRANT: NE
WEST_LONGITUDE: -111 41 15.00000
EAST_LONGITUDE: -111 37 30.00000
NORTH_LATITUDE: 44 37 30.00000
SOUTH_LATITUDE: 44 33 45.00000
PRODUCTION_DATE: 2000 5 2
RASTER_ORDER: LEFT_RIGHT/TOP_BOTTOM
BAND_ORGANIZATION: SINGLE FILE
BAND_CONTENT: BLACK&WHITE
BAND_CONTENT: UNDEFINED
BAND_CONTENT: UNDEFINED
BITS_PER_PIXEL: 8
SAMPLES_AND_LINES: 5683 7594
HORIZONTAL_DATUM: NAD83
HORIZONTAL_COORDINATE_SYSTEM: UTM
COORDINATE_ZONE: 12
HORIZONTAL_UNITS: METERS
HORIZONTAL_RESOLUTION: 1.00000
SECONDARY_HORIZONTAL_DATUM: NAD27
XY_ORIGIN: 445039.00000 4941824.00000
SECONDARY_XY_ORIGIN: 445100.75600 4941615.70800
NATION: US
NATION: "SCIENCE
STATE: MT
NW_QUAD_CORNER_XY: 445462.18300 4941523.88100
NE_QUAD_CORNER_XY: 450420.16900 4941483.98800
SE_QUAD_CORNERY_XY: 450366.99900 4934541.51900
SW_QUAD_CORNER_XY: 445403.69500 4934581.41100
SECONDARY_NW_QUAD_XY: 445460.58700 4941307.04500
SECONDARY_NE_QUAD_XY: 450418.71800 4941267.15100
SECONDARY_SE_QUAD_XY: 450365.54800 4934324.74400
SECONDARY_SW_QUAD_XY: 445402.09900 4934364.63700
RMSE_XY: 3.20000
IMAGE_SOURCE: BLACK AND WHITE FILM
SOURCE_IMAGE_ID: NAPP 8374 161
SOURCE_IMAGE_DATE: 1995 08 12
SOURCE_IMAGE_ID: NAPP 8374 159
SOURCE_IMAGE_DATE: 1995 08 12
SOURCE_DEM_DATE: 1982 00 00
AGENCY: WESTERN MAPPING CENTER (WMC)
PRODUCER: UNDEFINED
PRODUCTION_SYSTEM: GIS/MAGIC
COMPRESSION: UNDEFINED
STANDARD_VERSION: 1996 12
METADATA_DATE: 2000 05 26
DATA_FILE_SIZE: 43162385
BYTE_COUNT: 5683
