BEGIN_USGS_DOQ_HEADER *
QUADRANGLE_NAME "SAWTELL PEAK" *
QUADRANT SW *
WEST_LONGITUDE -111 30 0.000 *
EAST_LONGITUDE -111 26 15.000 *
NORTH_LATITUDE 44 33 45.000 *
SOUTH_LATITUDE 44 30 0.000 *
PRODUCTION_DATE 2003 4 15 *
RASTER_ORDER LEFT_RIGHT/TOP_BOTTOM *
BAND_ORGANIZATION "SINGLE FILE" *
BAND_CONTENT BLACK&WHITE *
BITS_PER_PIXEL 8 *
SAMPLES_AND_LINES 5669 7579 *
HORIZONTAL_DATUM NAD83 *
HORIZONTAL_COORDINATE_SYSTEM UTM *
COORDINATE_ZONE 12 *
HORIZONTAL_UNITS METERS *
HORIZONTAL_RESOLUTION 1.0 *
SECONDARY_HORIZONTAL_DATUM NAD27 *
XY_ORIGIN 459888.043 4934773.135 *
SECONDARY_XY_ORIGIN 459949.915 4934564.894 *
NATION US *
STATE ID *
STATE MT *
NW_QUAD_CORNER_XY 460293.604 4934473.135 *
NE_QUAD_CORNER_XY 465256.905 4934444.642 *
SE_QUAD_CORNER_XY 465219.728 4927502.253 *
SW_QUAD_CORNER_XY 460251.115 4927530.745 *
SECONDARY_NW_QUAD_XY 460292.444 4934256.359 *
SECONDARY_NE_QUAD_XY 465255.892 4934227.865 *
SECONDARY_SE_QUAD_XY 465218.716 4927285.538 *
SECONDARY_SW_QUAD_XY 460249.956 4927314.031 *
RMSE_XY 1.45 *
IMAGE_SOURCE "BLACK AND WHITE FILM" *
SOURCE_IMAGE_ID "NAPP 10692 206" *
SOURCE_IMAGE_DATE 2000 9 7 *
SOURCE_IMAGE_ID "NAPP 10692 207" *
SOURCE_IMAGE_DATE 2000 9 7 *
SOURCE_IMAGE_ID "NAPP 10692 205" *
SOURCE_IMAGE_DATE 2000 9 7 *
SOURCE_IMAGE_ID "NAPP 10690 45" *
SOURCE_IMAGE_DATE 1999 8 16 *
SOURCE_IMAGE_ID "NAPP 10690 44" *
SOURCE_IMAGE_DATE 1999 8 16 *
SOURCE_IMAGE_ID "NAPP 10690 43" *
SOURCE_IMAGE_DATE 1999 8 16 *
SOURCE_IMAGE_ID "NAPP 10683 67" *
SOURCE_IMAGE_DATE 1999 7 23 *
SOURCE_IMAGE_ID "NAPP 10683 66" *
SOURCE_IMAGE_DATE 1999 7 23 *
SOURCE_IMAGE_ID "NAPP 10683 65" *
SOURCE_IMAGE_DATE 1999 7 23 *
SOURCE_DEM_DATE 2003 1 1 *
AGENCY "WESTERN MAPPING CENTER (WMC)" *
PRODUCER "USDA FS GEOSPATIAL SERVICE AND TECHNOLOGY CENTER" *
PRODUCTION_SYSTEM "ORBIT OR_RECTIFY V.5.2" *
STANDARD_VERSION 1996 12 *
METADATA_DATE 2003 6 5 *
DATA_FILE_SIZE 42971020 *
BYTE_COUNT 5669 *
