FILENAME: O4411131.NES.831822.tif
QUADRANGLE_NAME: REAS PASS
QUADRANT: NE
WEST_LONGITUDE: -111 11 15.00000
EAST_LONGITUDE: -111 7 30.00000
NORTH_LATITUDE: 44 37 30.00000
SOUTH_LATITUDE: 44 33 45.00000
PRODUCTION_DATE: 1997 11 24
RASTER_ORDER: LEFT_RIGHT/TOP_BOTTOM
BAND_ORGANIZATION: SINGLE FILE
BAND_CONTENT: BLACK&WHITE
BAND_CONTENT: UNDEFINED
BAND_CONTENT: UNDEFINED
BITS_PER_PIXEL: 8
SAMPLES_AND_LINES: 5639 7563
HORIZONTAL_DATUM: NAD83
HORIZONTAL_COORDINATE_SYSTEM: UTM
COORDINATE_ZONE: 12
HORIZONTAL_UNITS: METERS
HORIZONTAL_RESOLUTION: 1.00000
SECONDARY_HORIZONTAL_DATUM: NAD27
XY_ORIGIN: 484747.00000 4941612.00000
SECONDARY_XY_ORIGIN: 484808.41700 4941403.33200
NATION: US
NATION: "SCIENCE
STATE: MT
STATE: ID
NW_QUAD_CORNER_XY: 485126.05500 4941311.12300
NE_QUAD_CORNER_XY: 490084.03700 4941301.62500
SE_QUAD_CORNERY_XY: 490073.40300 4934359.16300
SW_QUAD_CORNER_XY: 485110.10400 4934368.66000
SECONDARY_NW_QUAD_XY: 485125.61900 4941094.28100
SECONDARY_NE_QUAD_XY: 490083.74600 4941084.78300
SECONDARY_SE_QUAD_XY: 490073.11300 4934142.38200
SECONDARY_SW_QUAD_XY: 485109.66900 4934151.88000
RMSE_XY: 1.80000
IMAGE_SOURCE: BLACK AND WHITE FILM
SOURCE_IMAGE_ID: NAPP 8375 137
SOURCE_IMAGE_DATE: 1995 08 12
SOURCE_DEM_DATE: 1997 01 01
AGENCY: WESTERN MAPPING CENTER (WMC)
PRODUCER: UNDEFINED
PRODUCTION_SYSTEM: GIS/MAGIC
COMPRESSION: UNDEFINED
STANDARD_VERSION: 1996 12
METADATA_DATE: 1997 12 17
DATA_FILE_SIZE: 42653396
BYTE_COUNT: 5639
