FILENAME: O4411132.NWS.831870.tif
QUADRANGLE_NAME: JACK STRAW BASIN
QUADRANT: NW
WEST_LONGITUDE: -111 7 30.00000
EAST_LONGITUDE: -111 3 45.00000
NORTH_LATITUDE: 44 37 30.00000
SOUTH_LATITUDE: 44 33 45.00000
PRODUCTION_DATE: 1997 11 24
RASTER_ORDER: LEFT_RIGHT/TOP_BOTTOM
BAND_ORGANIZATION: SINGLE FILE
BAND_CONTENT: BLACK&WHITE
BAND_CONTENT: UNDEFINED
BAND_CONTENT: UNDEFINED
BITS_PER_PIXEL: 8
SAMPLES_AND_LINES: 5634 7559
HORIZONTAL_DATUM: NAD83
HORIZONTAL_COORDINATE_SYSTEM: UTM
COORDINATE_ZONE: 12
HORIZONTAL_UNITS: METERS
HORIZONTAL_RESOLUTION: 1.00000
SECONDARY_HORIZONTAL_DATUM: NAD27
XY_ORIGIN: 489710.00000 4941602.00000
SECONDARY_XY_ORIGIN: 489771.32600 4941393.23600
NATION: US
NATION: "SCIENCE
STATE: MT
NW_QUAD_CORNER_XY: 490084.03700 4941301.62500
NE_QUAD_CORNER_XY: 495042.01800 4941295.92600
SE_QUAD_CORNERY_XY: 495036.70200 4934353.46400
SW_QUAD_CORNER_XY: 490073.40300 4934359.16300
SECONDARY_NW_QUAD_XY: 490083.74600 4941084.78300
SECONDARY_NE_QUAD_XY: 495041.87300 4941079.08400
SECONDARY_SE_QUAD_XY: 495036.55600 4934136.68300
SECONDARY_SW_QUAD_XY: 490073.11300 4934142.38200
RMSE_XY: 0.70000
IMAGE_SOURCE: BLACK AND WHITE FILM
SOURCE_IMAGE_ID: NAPP 7817 064
SOURCE_IMAGE_DATE: 1994 06 27
SOURCE_IMAGE_ID: NAPP 7817 063
SOURCE_IMAGE_DATE: 1994 06 27
SOURCE_IMAGE_ID: NAPP 7817 065
SOURCE_IMAGE_DATE: 1994 06 27
SOURCE_DEM_DATE: 1980 07 00
AGENCY: WESTERN MAPPING CENTER (WMC)
PRODUCER: UNDEFINED
PRODUCTION_SYSTEM: GIS/MAGIC
COMPRESSION: UNDEFINED
STANDARD_VERSION: 1996 12
METADATA_DATE: 1997 12 17
DATA_FILE_SIZE: 42593040
BYTE_COUNT: 5634
